BEGIN:VCALENDAR
VERSION:2.0
PRODID:-//Laura Albert - ECPv6.15.14//NONSGML v1.0//EN
CALSCALE:GREGORIAN
METHOD:PUBLISH
X-ORIGINAL-URL:https://lauraalbert.de
X-WR-CALDESC:Veranstaltungen für Laura Albert
REFRESH-INTERVAL;VALUE=DURATION:PT1H
X-Robots-Tag:noindex
X-PUBLISHED-TTL:PT1H
BEGIN:VTIMEZONE
TZID:UTC
BEGIN:STANDARD
TZOFFSETFROM:+0000
TZOFFSETTO:+0000
TZNAME:UTC
DTSTART:20220101T000000
END:STANDARD
END:VTIMEZONE
BEGIN:VEVENT
DTSTART;TZID=UTC:20231103T193000
DTEND;TZID=UTC:20231103T220000
DTSTAMP:20260425T183347
CREATED:20230910T065735Z
LAST-MODIFIED:20231124T131950Z
UID:4009-1699039800-1699048800@lauraalbert.de
SUMMARY:The Famous Door on Swing Street
DESCRIPTION:
URL:https://lauraalbert.de/termine/thilo-wolf-the-famous-door-on-swing-street-2/
LOCATION:Landestheater Neustrelitz\, Friedrich-Ludwig-Jahn-Straße 14\, Neustrelitz\, Mecklenburg-Vorpommern\, 17235
CATEGORIES:Landestheater Neustrelitz,Philharmonie Neubrandenburg
END:VEVENT
END:VCALENDAR