BEGIN:VCALENDAR
VERSION:2.0
PRODID:-//Laura Albert - ECPv6.15.14//NONSGML v1.0//EN
CALSCALE:GREGORIAN
METHOD:PUBLISH
X-WR-CALNAME:Laura Albert
X-ORIGINAL-URL:https://lauraalbert.de
X-WR-CALDESC:Veranstaltungen für Laura Albert
REFRESH-INTERVAL;VALUE=DURATION:PT1H
X-Robots-Tag:noindex
X-PUBLISHED-TTL:PT1H
BEGIN:VTIMEZONE
TZID:UTC
BEGIN:STANDARD
TZOFFSETFROM:+0000
TZOFFSETTO:+0000
TZNAME:UTC
DTSTART:20220101T000000
END:STANDARD
END:VTIMEZONE
BEGIN:VEVENT
DTSTART;TZID=UTC:20231113T100000
DTEND;TZID=UTC:20231113T110000
DTSTAMP:20260425T183158
CREATED:20230601T065046Z
LAST-MODIFIED:20230601T065046Z
UID:3804-1699869600-1699873200@lauraalbert.de
SUMMARY:Haydn: Die Schöpfung
DESCRIPTION:Konzept: Julia Schulenburg / Klara Ring \nModeration: Julia Schulenburg \nSolisten: Laura Albert (Eva/Gabriel)\, Ryszard Kalus (Adam/Raphael) \nLeitung: Daniel Klein
URL:https://lauraalbert.de/termine/haydn-die-schoepfung-3/
LOCATION:Landestheater Neustrelitz\, Friedrich-Ludwig-Jahn-Straße 14\, Neustrelitz\, Mecklenburg-Vorpommern\, 17235
CATEGORIES:Philharmonie Neubrandenburg
END:VEVENT
END:VCALENDAR