BEGIN:VCALENDAR
VERSION:2.0
PRODID:-//Laura Albert - ECPv6.15.14//NONSGML v1.0//EN
CALSCALE:GREGORIAN
METHOD:PUBLISH
X-ORIGINAL-URL:https://lauraalbert.de
X-WR-CALDESC:Veranstaltungen für Laura Albert
REFRESH-INTERVAL;VALUE=DURATION:PT1H
X-Robots-Tag:noindex
X-PUBLISHED-TTL:PT1H
BEGIN:VTIMEZONE
TZID:UTC
BEGIN:STANDARD
TZOFFSETFROM:+0000
TZOFFSETTO:+0000
TZNAME:UTC
DTSTART:20220101T000000
END:STANDARD
END:VTIMEZONE
BEGIN:VEVENT
DTSTART;TZID=UTC:20231125T193000
DTEND;TZID=UTC:20231125T220000
DTSTAMP:20260425T183347
CREATED:20230910T065849Z
LAST-MODIFIED:20231124T131942Z
UID:4011-1700940600-1700949600@lauraalbert.de
SUMMARY:The Famous Door on Swing Street
DESCRIPTION:BESETZUNG: \nAnna\, eine DJane: Laura Scherwitzl \nMike\, ein Banker: Andrés Felipe Orozco \nDoris\, Besitzerin eines Plattenladens: Bettina Meske \nPete\, Stepptänzer: Niklas Schurz \nTom\, ein Banker: Sebastian Naglatzki \nSwing Sisters: So Yeon Yang\, Laura Albert\, Julia Baier-Tarasova \n  \nOpernchor der TOG\nDeutsche Tanzkompanie\nNeubrandenburger Philharmonie \n  \nMusikalische Leitung: Thilo Wolf \nInszenierung und Choreographie: Gaines Hall \nBühnen- und Kostümbild: Dirk Immich
URL:https://lauraalbert.de/termine/thilo-wolf-the-famous-door-on-swing-street-3/
LOCATION:Landestheater Neustrelitz\, Friedrich-Ludwig-Jahn-Straße 14\, Neustrelitz\, Mecklenburg-Vorpommern\, 17235
CATEGORIES:Landestheater Neustrelitz,Philharmonie Neubrandenburg
END:VEVENT
END:VCALENDAR