BEGIN:VCALENDAR
VERSION:2.0
PRODID:-//Laura Albert - ECPv6.15.14//NONSGML v1.0//EN
CALSCALE:GREGORIAN
METHOD:PUBLISH
X-ORIGINAL-URL:https://lauraalbert.de
X-WR-CALDESC:Veranstaltungen für Laura Albert
REFRESH-INTERVAL;VALUE=DURATION:PT1H
X-Robots-Tag:noindex
X-PUBLISHED-TTL:PT1H
BEGIN:VTIMEZONE
TZID:UTC
BEGIN:STANDARD
TZOFFSETFROM:+0000
TZOFFSETTO:+0000
TZNAME:UTC
DTSTART:20230101T000000
END:STANDARD
END:VTIMEZONE
BEGIN:VEVENT
DTSTART;TZID=UTC:20240101T180000
DTEND;TZID=UTC:20240101T230000
DTSTAMP:20260425T153524
CREATED:20230804T091518Z
LAST-MODIFIED:20231124T132438Z
UID:3950-1704132000-1704150000@lauraalbert.de
SUMMARY:Die Hochzeit des Figaro
DESCRIPTION:Gastspiel der Kammeroper München im Cuvilliéstheater in München. \nGräfin d‘Almaviva: Laura Albert
URL:https://lauraalbert.de/termine/die-hochzeit-des-figaro-cuvilliestheater/
LOCATION:Cuvilliéstheater München\, Residenzstraße 1\, München\, Bayern\, 80333\, Deutschland
CATEGORIES:Kammeroper München,Oper
END:VEVENT
END:VCALENDAR