BEGIN:VCALENDAR
VERSION:2.0
PRODID:-//Laura Albert - ECPv6.15.14//NONSGML v1.0//EN
CALSCALE:GREGORIAN
METHOD:PUBLISH
X-ORIGINAL-URL:https://lauraalbert.de
X-WR-CALDESC:Veranstaltungen für Laura Albert
REFRESH-INTERVAL;VALUE=DURATION:PT1H
X-Robots-Tag:noindex
X-PUBLISHED-TTL:PT1H
BEGIN:VTIMEZONE
TZID:UTC
BEGIN:STANDARD
TZOFFSETFROM:+0000
TZOFFSETTO:+0000
TZNAME:UTC
DTSTART:20230101T000000
END:STANDARD
END:VTIMEZONE
BEGIN:VEVENT
DTSTART;TZID=UTC:20240317T110000
DTEND;TZID=UTC:20240317T120000
DTSTAMP:20260425T122401
CREATED:20240316T085541Z
LAST-MODIFIED:20240316T085541Z
UID:4335-1710673200-1710676800@lauraalbert.de
SUMMARY:Die Fledermaus Matinee
DESCRIPTION:Vorstellung der Inszenierung\, ca. 60 Min. \nEintritt frei. \n  \nBESETZUNG \nGabriel von Eisenstein: Bernd Könnes\nRosalinde\, seine Frau:  Laura Albert\nAdele\, Eisensteins Stubenmädel: Laura Scherwitzl\nPrinz Orlofsky: Julia Baier-Tarasova\nAlfred: Andrés Felipe Orozco\nDr. Falke\, Notar: Robert Merwald / Sebastian Naglatzki\nDr. Blind: Mathew Habib\nFrank\, Gefängnisdirektor: Ryszard Kalus\nIda: Fernanda de Araujo\nFrosch: Karin Hartmann
URL:https://lauraalbert.de/termine/die-fledermaus-matinee/
LOCATION:Landestheater Neustrelitz\, Friedrich-Ludwig-Jahn-Straße 14\, Neustrelitz\, Mecklenburg-Vorpommern\, 17235
CATEGORIES:Landestheater Neustrelitz
END:VEVENT
END:VCALENDAR