BEGIN:VCALENDAR
VERSION:2.0
PRODID:-//Laura Albert - ECPv6.15.14//NONSGML v1.0//EN
CALSCALE:GREGORIAN
METHOD:PUBLISH
X-ORIGINAL-URL:https://lauraalbert.de
X-WR-CALDESC:Veranstaltungen für Laura Albert
REFRESH-INTERVAL;VALUE=DURATION:PT1H
X-Robots-Tag:noindex
X-PUBLISHED-TTL:PT1H
BEGIN:VTIMEZONE
TZID:UTC
BEGIN:STANDARD
TZOFFSETFROM:+0000
TZOFFSETTO:+0000
TZNAME:UTC
DTSTART:20230101T000000
END:STANDARD
END:VTIMEZONE
BEGIN:VEVENT
DTSTART;TZID=UTC:20240330T190000
DTEND;TZID=UTC:20240330T210000
DTSTAMP:20260425T122052
CREATED:20230601T071502Z
LAST-MODIFIED:20240316T090818Z
UID:3825-1711825200-1711832400@lauraalbert.de
SUMMARY:Die Fledermaus PREMIERE
DESCRIPTION:BESETZUNG \nGabriel von Eisenstein: Bernd Könnes\nRosalinde\, seine Frau:  Laura Albert\nAdele\, Eisensteins Stubenmädel: Laura Scherwitzl\nPrinz Orlofsky: Julia Baier-Tarasova\nAlfred: Andrés Felipe Orozco\nDr. Falke\, Notar: Robert Merwald\nDr. Blind: Mathew Habib\nFrank\, Gefängnisdirektor: Ryszard Kalus\nIda: N.N.\nFrosch: Karin Hartmann \n  \nOpernchor der TOG\nDeutsche Tanzkompanie\nNeubrandenburger Philharmonie \n  \nMusikalische Leitung: GMD Daniel Geiss\nInszenierung: Max Hoehn\nBühnen- und Kostümbild: Darko Petrovic\nChoreographie: Gaetano Posterino\nChor: Joseph Feigl\nDramaturgie: N.N.
URL:https://lauraalbert.de/termine/johann-strauss-die-fledermaus/
LOCATION:Landestheater Neustrelitz\, Friedrich-Ludwig-Jahn-Straße 14\, Neustrelitz\, Mecklenburg-Vorpommern\, 17235
CATEGORIES:Landestheater Neustrelitz,Operette,Philharmonie Neubrandenburg,Premieren
END:VEVENT
END:VCALENDAR