BEGIN:VCALENDAR
VERSION:2.0
PRODID:-//Laura Albert - ECPv6.15.14//NONSGML v1.0//EN
CALSCALE:GREGORIAN
METHOD:PUBLISH
X-WR-CALNAME:Laura Albert
X-ORIGINAL-URL:https://lauraalbert.de
X-WR-CALDESC:Veranstaltungen für Laura Albert
REFRESH-INTERVAL;VALUE=DURATION:PT1H
X-Robots-Tag:noindex
X-PUBLISHED-TTL:PT1H
BEGIN:VTIMEZONE
TZID:UTC
BEGIN:STANDARD
TZOFFSETFROM:+0000
TZOFFSETTO:+0000
TZNAME:UTC
DTSTART:20230101T000000
END:STANDARD
END:VTIMEZONE
BEGIN:VEVENT
DTSTART;TZID=UTC:20240601T193000
DTEND;TZID=UTC:20240601T220000
DTSTAMP:20260425T054123
CREATED:20240316T083043Z
LAST-MODIFIED:20240316T085307Z
UID:4327-1717270200-1717279200@lauraalbert.de
SUMMARY:Neues vom Tage
DESCRIPTION:Eduard und Laura suchen nach einem Streit Rat beim Ehepaar M. Sie raten\, die Ehe zu beenden und sich dafür an den Universumkonzern zu wenden. Dieser liefert als Scheidungsgrund den schönen Herrmann\, der Laura in einem Museum trifft. Eduard ertappt beide und wird entgegen der Abmachung darüber wütend und zerstört eine kostbare Vase. Dafür wird er eingesperrt. \nHermann erfüllt weiter seinen ominösen Dienst und erklärt Laura\, die sich gerade in der Badewanne befindet\, in ihrem Hotelzimmer seine Liebe. Frau M. jedoch hat jetzt ihr Herz an den schönen Hermann verloren und stört die spontane Badezimmer-Szene. Eine Reporterin und Angestellte des Hotels machen einen handfesten Skandal daraus. Grund genug sich zu scheiden! Der Konzern hat aber Interesse an diesem filmreifen Ablauf bekommen und sieht ein Geschäftsmodell für seine Scheidungsdienste. Zusammen mit der Presse finden sich immer neue werbewirksame Skandalstorys. Die verwirrten Laura und Eduard sind das Neue vom Tage geworden. \nText von Marcellus Schiffer \n\nBESETZUNGLaura: Laura Albert\nEduard\, ihr Ehemann: Robert Merwald\nDer schöne Herr Hermann: Alexander Geller\nHerr M.: Andrés Felipe Orozco\nFrau M.: Julia Baier-Tarasova\nEin Standesbeamter/ Ein Hoteldirektor: Ryszard Kalus\nEin Fremdenführer: Andreas Hartig\nEin Zimmermädchen: Gabrielle Penney\nEin Oberkellner: Sungwoo Park\nSechs Manager: Chor-HerrenOpernchor der TOG\nTanzhaus Neustrelitz\nStatisterie der TOG\nNeubrandenburger Philharmonie \n  \nMusikalische Leitung: Daniel Klein\nInszenierung: Annika Nitsch\nBühnen- und Kostümbild: Monika Diensthuber\nChor: Joseph Feigl\nDramaturgie: Sebastian Richter
URL:https://lauraalbert.de/termine/neues-vom-tage-3/
LOCATION:Landestheater Neustrelitz\, Friedrich-Ludwig-Jahn-Straße 14\, Neustrelitz\, Mecklenburg-Vorpommern\, 17235
CATEGORIES:Landestheater Neustrelitz,Philharmonie Neubrandenburg
END:VEVENT
END:VCALENDAR