BEGIN:VCALENDAR
VERSION:2.0
PRODID:-//Laura Albert - ECPv6.15.14//NONSGML v1.0//EN
CALSCALE:GREGORIAN
METHOD:PUBLISH
X-ORIGINAL-URL:https://lauraalbert.de
X-WR-CALDESC:Veranstaltungen für Laura Albert
REFRESH-INTERVAL;VALUE=DURATION:PT1H
X-Robots-Tag:noindex
X-PUBLISHED-TTL:PT1H
BEGIN:VTIMEZONE
TZID:UTC
BEGIN:STANDARD
TZOFFSETFROM:+0000
TZOFFSETTO:+0000
TZNAME:UTC
DTSTART:20230101T000000
END:STANDARD
END:VTIMEZONE
BEGIN:VEVENT
DTSTART;TZID=UTC:20240614T080000
DTEND;TZID=UTC:20240614T170000
DTSTAMP:20260425T054127
CREATED:20240316T082139Z
LAST-MODIFIED:20240316T084611Z
UID:4329-1718352000-1718384400@lauraalbert.de
SUMMARY:Die Fledermaus
DESCRIPTION:1874 im bis heute existierenden Theater an der Wien uraufgeführt\, schaffte es die Operette in die Reihe der meistgespielten Stücke weltweit. Strauß ´ ursprüngliche Pläne\, die schweren Stimmen für die Übernahme in die Hofoper anzupassen\, wurden zum Glück nie Realität. Die heiter-operettige Handlung\, durchdrungen von sich überlagernden Verwechslungen um eine ‚Rache der Fledermaus‘\, weiß im Wein schließlich ihre Wahrheit zu finden. Partout im Gefängnis landet die rauschende Festgemeinde beim legendären Wärter Frosch. Samt Spontan-Vorsingen Adeles\, das ihr doch wirklich eine Zukunft als Künstlerin ebnen soll\, gelingt Dr. Falke seine drehbuchreif geplante Rachestrategie am aufbrausenden Herrn Eisenstein. Auf dem Weg dorthin enttarnt sich ein musikalisches Meisterwerk samt genialischem Textbuch. \n„Vielleicht die Operette schlechthin. Ein Spiel mit Sein und Schein\, mit Träumen und Wünschen jenseits der eigenen Lebensweise. Das geht aber schief und endet mit dem Annehmen der Realität. Wunderbare Melodien. Es ist erstaunlich\, dass dieses Stück hier so lange nicht gelaufen ist.“ Sven Müller \nText von Carl Haffner und Richard Genée \nNach dem Vaudeville „Le Réveillon“ von Henri Meilhac und Ludovic Halévy \n  \n\nBESETZUNGGabriel von Eisenstein: Bernd Könnes\nRosalinde\, seine Frau:  Laura Albert\nAdele\, Eisensteins Stubenmädel: Laura Scherwitzl\nPrinz Orlofsky: Julia Baier-Tarasova\nAlfred: Andrés Felipe Orozco\nDr. Falke\, Notar: Robert Merwald / Sebastian Naglatzki\nDr. Blind: Mathew Habib\nFrank\, Gefängnisdirektor: Ryszard Kalus\nIda: Fernanda de Araujo\nFrosch: Karin Hartmann \n  \nOpernchor der TOG\nDeutsche Tanzkompanie\nNeubrandenburger Philharmonie \n  \nMusikalische Leitung: GMD Daniel Geiss\nInszenierung: Max Hoehn\nBühnen- und Kostümbild: Darko Petrovic\nChoreographie: Gaetano Posterino\nChor: Joseph Feigl\nDramaturgie: Dr. Sebastian Richter
URL:https://lauraalbert.de/termine/die-fledermaus-3/
LOCATION:Landestheater Neustrelitz\, Friedrich-Ludwig-Jahn-Straße 14\, Neustrelitz\, Mecklenburg-Vorpommern\, 17235
CATEGORIES:Landestheater Neustrelitz,Philharmonie Neubrandenburg
END:VEVENT
END:VCALENDAR