BEGIN:VCALENDAR
VERSION:2.0
PRODID:-//Laura Albert - ECPv6.15.14//NONSGML v1.0//EN
CALSCALE:GREGORIAN
METHOD:PUBLISH
X-WR-CALNAME:Laura Albert
X-ORIGINAL-URL:https://lauraalbert.de
X-WR-CALDESC:Veranstaltungen für Laura Albert
REFRESH-INTERVAL;VALUE=DURATION:PT1H
X-Robots-Tag:noindex
X-PUBLISHED-TTL:PT1H
BEGIN:VTIMEZONE
TZID:Europe/Berlin
BEGIN:DAYLIGHT
TZOFFSETFROM:+0100
TZOFFSETTO:+0200
TZNAME:CEST
DTSTART:20230326T010000
END:DAYLIGHT
BEGIN:STANDARD
TZOFFSETFROM:+0200
TZOFFSETTO:+0100
TZNAME:CET
DTSTART:20231029T010000
END:STANDARD
BEGIN:DAYLIGHT
TZOFFSETFROM:+0100
TZOFFSETTO:+0200
TZNAME:CEST
DTSTART:20240331T010000
END:DAYLIGHT
BEGIN:STANDARD
TZOFFSETFROM:+0200
TZOFFSETTO:+0100
TZNAME:CET
DTSTART:20241027T010000
END:STANDARD
BEGIN:DAYLIGHT
TZOFFSETFROM:+0100
TZOFFSETTO:+0200
TZNAME:CEST
DTSTART:20250330T010000
END:DAYLIGHT
BEGIN:STANDARD
TZOFFSETFROM:+0200
TZOFFSETTO:+0100
TZNAME:CET
DTSTART:20251026T010000
END:STANDARD
END:VTIMEZONE
BEGIN:VEVENT
DTSTART;TZID=Europe/Berlin:20241207T200000
DTEND;TZID=Europe/Berlin:20241207T220000
DTSTAMP:20260424T202834
CREATED:20241029T164902Z
LAST-MODIFIED:20241029T165117Z
UID:4966-1733601600-1733608800@lauraalbert.de
SUMMARY:Bruckner: Te Deum |  Stanford: Missa in G
DESCRIPTION:St. Hedwigs-Kathedrale Berlin \nProgramm:\nCharles V. Stanford (1852 – 1924):\nMissa in G \nAnton Bruckner (1824 – 1896):\nTe Deum für Solisten\, Chor & Orchester \nMitwirkende:\nLaura Albert\, Sopran\nIvón Mateljan\, Alt\nKai Roterberg\, Tenor\nChristof Fischesser\, Bass\nDomorganist em. Thomas Sauer\, Orgel\nChor der Sankt Hedwigs-Kathedrale\nDomkapellmeister Harald Schmitt\, Leitung \nEintritt frei\nReservierung erbeten\, Restkarten ggf. an der Abendkasse erhältlich \nKartenreservierung möglich ab 06. November\, 16:00 Uhr unter: www.hedwigschor-berlin.de \n  \n 
URL:https://lauraalbert.de/termine/bruckner-te-deum-stanford-missa-in-g/
LOCATION:St. Hedwigs Kathedrale Berlin\, Bebelplatz\, Berlin\, 10117
CATEGORIES:Berlin,Konzert,Oratorium
END:VEVENT
END:VCALENDAR