BEGIN:VCALENDAR
VERSION:2.0
PRODID:-//Laura Albert - ECPv6.15.14//NONSGML v1.0//EN
CALSCALE:GREGORIAN
METHOD:PUBLISH
X-ORIGINAL-URL:https://lauraalbert.de
X-WR-CALDESC:Veranstaltungen für Laura Albert
REFRESH-INTERVAL;VALUE=DURATION:PT1H
X-Robots-Tag:noindex
X-PUBLISHED-TTL:PT1H
BEGIN:VTIMEZONE
TZID:Europe/Berlin
BEGIN:DAYLIGHT
TZOFFSETFROM:+0100
TZOFFSETTO:+0200
TZNAME:CEST
DTSTART:20230326T010000
END:DAYLIGHT
BEGIN:STANDARD
TZOFFSETFROM:+0200
TZOFFSETTO:+0100
TZNAME:CET
DTSTART:20231029T010000
END:STANDARD
BEGIN:DAYLIGHT
TZOFFSETFROM:+0100
TZOFFSETTO:+0200
TZNAME:CEST
DTSTART:20240331T010000
END:DAYLIGHT
BEGIN:STANDARD
TZOFFSETFROM:+0200
TZOFFSETTO:+0100
TZNAME:CET
DTSTART:20241027T010000
END:STANDARD
BEGIN:DAYLIGHT
TZOFFSETFROM:+0100
TZOFFSETTO:+0200
TZNAME:CEST
DTSTART:20250330T010000
END:DAYLIGHT
BEGIN:STANDARD
TZOFFSETFROM:+0200
TZOFFSETTO:+0100
TZNAME:CET
DTSTART:20251026T010000
END:STANDARD
END:VTIMEZONE
BEGIN:VEVENT
DTSTART;TZID=Europe/Berlin:20241231T193000
DTEND;TZID=Europe/Berlin:20241231T193000
DTSTAMP:20260424T203119
CREATED:20240328T133640Z
LAST-MODIFIED:20241014T065645Z
UID:4378-1735673400-1735673400@lauraalbert.de
SUMMARY:Die Fledermaus
DESCRIPTION:BESETZUNG \nGabriel von Eisenstein → Bernd Könnes\nRosalinde\, seine Frau →  Laura Albert\nAdele\, Eisensteins Stubenmädel → Laura Scherwitzl\nPrinz Orlofsky → Julia Baier-Tarasova\nAlfred → Andrés Felipe Orozco\nDr. Falke\, Notar → Robert Merwald / Sebastian Naglatzki\nDr. Blind → Kyoungloul Kim\nFrank\, Gefängnisdirektor → Ryszard Kalus\nIda → Fernanda de Araujo\nFrosch → Karin Hartmann \n  \nOpernchor der TOG\nDeutsche Tanzkompanie\nNeubrandenburger Philharmonie \n  \nMusikalische Leitung → GMD Daniel Geiss\nInszenierung → Max Hoehn\nBühnen- und Kostümbild → Darko Petrovic\nChoreographie → Gaetano Posterino\nChor → Joseph Feigl\nDramaturgie → Sebastian M. Richter
URL:https://lauraalbert.de/termine/die-fledermaus-4/
LOCATION:Landestheater Neustrelitz\, Friedrich-Ludwig-Jahn-Straße 14\, Neustrelitz\, Mecklenburg-Vorpommern\, 17235
CATEGORIES:Landestheater Neustrelitz,Philharmonie Neubrandenburg
END:VEVENT
END:VCALENDAR