BEGIN:VCALENDAR
VERSION:2.0
PRODID:-//Laura Albert - ECPv6.15.14//NONSGML v1.0//EN
CALSCALE:GREGORIAN
METHOD:PUBLISH
X-ORIGINAL-URL:https://lauraalbert.de
X-WR-CALDESC:Veranstaltungen für Laura Albert
REFRESH-INTERVAL;VALUE=DURATION:PT1H
X-Robots-Tag:noindex
X-PUBLISHED-TTL:PT1H
BEGIN:VTIMEZONE
TZID:Europe/Berlin
BEGIN:DAYLIGHT
TZOFFSETFROM:+0100
TZOFFSETTO:+0200
TZNAME:CEST
DTSTART:20240331T010000
END:DAYLIGHT
BEGIN:STANDARD
TZOFFSETFROM:+0200
TZOFFSETTO:+0100
TZNAME:CET
DTSTART:20241027T010000
END:STANDARD
BEGIN:DAYLIGHT
TZOFFSETFROM:+0100
TZOFFSETTO:+0200
TZNAME:CEST
DTSTART:20250330T010000
END:DAYLIGHT
BEGIN:STANDARD
TZOFFSETFROM:+0200
TZOFFSETTO:+0100
TZNAME:CET
DTSTART:20251026T010000
END:STANDARD
BEGIN:DAYLIGHT
TZOFFSETFROM:+0100
TZOFFSETTO:+0200
TZNAME:CEST
DTSTART:20260329T010000
END:DAYLIGHT
BEGIN:STANDARD
TZOFFSETFROM:+0200
TZOFFSETTO:+0100
TZNAME:CET
DTSTART:20261025T010000
END:STANDARD
END:VTIMEZONE
BEGIN:VEVENT
DTSTART;TZID=Europe/Berlin:20250105T160000
DTEND;TZID=Europe/Berlin:20250105T190000
DTSTAMP:20260424T175020
CREATED:20241127T143428Z
LAST-MODIFIED:20241127T143449Z
UID:4980-1736092800-1736103600@lauraalbert.de
SUMMARY:Rigoletto
DESCRIPTION:Emotionen aus dem wahren Leben: Dieses musikalische Feuerwerk konnte nur Giuseppe Verdi komponieren! \nMantua im 16. Jahrhundert. Es ist Rigoletto\, der Hofnarr\, der zu Grunde geht: an der Gesellschaft\, an seinem eigenen Herzog\, an seiner höfischen Maske\, an seinen Racheplänen. Und er verliert seine Vaterrolle\, die ihm Zuflucht und Leben war: Denn Gilda will nicht mehr nur Tochter sein\, auch sie will leben. Große italienische Oper! \n„Gilda ist eine junge Frau\, die leidenschaftlich liebt. Sie ist Jungfrau\, aber machen Sie sie nicht zu niedlich. Denken sie daran\, was später geschieht. Sie opfert sich aus Liebe.“\nMaria Callas \n  \nBESETZUNG\nDer Herzog von Mantua → Konstantin Lee / Weilian Wang\nRigoletto\, sein Hofnarr → Anton Keremidtchiev / Jorge Lagunes\nGilda\, dessen Tochter → Yeonjoo Katharina Jang\nGraf von Monterone → Sebastian Naglatzki\nGraf von Ceprano → Changmin Lee\nGrafin Ceprano\, seine Gemahlin → Laura Albert\nMarullo\, Kavalier → Robert Merwald\nBorsa\, Höfling → Andrés Felipe Orozco / Krzysztof Napierala\nSparafucile\, ein Bravo → Ryszard Kalus\nMaddalena\, seine Schwester → Julia Baier-Tarasova / Sina Günther\nGiovanna\, Gildas Gesellschafterin → Barbara Legiehn\nEin Page der Herzogin → Sina Günther / Julia Baier-Tarasova  \n  \nHerren des Opernchors der TOG\nNeubrandenburger Philharmonie \n  \nMusikalische Leitung → GMD Daniel Geiss\nInszenierung → Seollyeon Konwitschny-Lee\nBühnen- und Kostümbild → Karin Waltenberger\nDramaturgie → Bettina Bartz
URL:https://lauraalbert.de/termine/rigoletto-3/
LOCATION:Landestheater Neustrelitz\, Friedrich-Ludwig-Jahn-Straße 14\, Neustrelitz\, Mecklenburg-Vorpommern\, 17235
CATEGORIES:Landestheater Neustrelitz,Oper,Philharmonie Neubrandenburg
END:VEVENT
END:VCALENDAR