BEGIN:VCALENDAR
VERSION:2.0
PRODID:-//Laura Albert - ECPv6.15.14//NONSGML v1.0//EN
CALSCALE:GREGORIAN
METHOD:PUBLISH
X-WR-CALNAME:Laura Albert
X-ORIGINAL-URL:https://lauraalbert.de
X-WR-CALDESC:Veranstaltungen für Laura Albert
REFRESH-INTERVAL;VALUE=DURATION:PT1H
X-Robots-Tag:noindex
X-PUBLISHED-TTL:PT1H
BEGIN:VTIMEZONE
TZID:Europe/Berlin
BEGIN:DAYLIGHT
TZOFFSETFROM:+0100
TZOFFSETTO:+0200
TZNAME:CEST
DTSTART:20240331T010000
END:DAYLIGHT
BEGIN:STANDARD
TZOFFSETFROM:+0200
TZOFFSETTO:+0100
TZNAME:CET
DTSTART:20241027T010000
END:STANDARD
BEGIN:DAYLIGHT
TZOFFSETFROM:+0100
TZOFFSETTO:+0200
TZNAME:CEST
DTSTART:20250330T010000
END:DAYLIGHT
BEGIN:STANDARD
TZOFFSETFROM:+0200
TZOFFSETTO:+0100
TZNAME:CET
DTSTART:20251026T010000
END:STANDARD
BEGIN:DAYLIGHT
TZOFFSETFROM:+0100
TZOFFSETTO:+0200
TZNAME:CEST
DTSTART:20260329T010000
END:DAYLIGHT
BEGIN:STANDARD
TZOFFSETFROM:+0200
TZOFFSETTO:+0100
TZNAME:CET
DTSTART:20261025T010000
END:STANDARD
END:VTIMEZONE
BEGIN:VEVENT
DTSTART;TZID=Europe/Berlin:20250124T193000
DTEND;TZID=Europe/Berlin:20250124T223000
DTSTAMP:20260424T174824
CREATED:20241117T164439Z
LAST-MODIFIED:20241117T164439Z
UID:4975-1737747000-1737757800@lauraalbert.de
SUMMARY:Aufstieg & Fall der Stadt Mahagonny
DESCRIPTION:Was könnte spannender sein\, als in der Oper den großen gesellschaftlichen Fragen auf den Grund zu gehen? \nMacht Geld glücklich? Macht Vergnügen glücklich? Macht Freiheit glücklich? Als die von Gaunern gegründete Stadt Mahagonny von einem Hurrikan verschont wird\, werden diese Fragen zu den Geboten der Bevölkerung. Kurt Weill und Bertolt Brecht zeichnen ein schonungsloses Bild des ungezügelten Kapitalismus. Hier regiert nur noch das Geld. Doch was bedeutet es für eine Gesellschaft\, frei von Moral und den Grenzen der Natur zu leben? Mit fesselnder Musik – beeinflusst von Jazz\, Kabarett und Musical – geht die Oper diesen Fragen nach. Antworten müssen wir selbst suchen. \n  \n\nBESETZUNG\nLeokadja Begbick → Julia Baier-Tarasova\nFatty\, der „Prokurist“ → Gevorg Kojoyan\nDreieinigkeitsmoses → Sebastian Naglatzki\nJenny Hill → Laura Albert\nJim Mahoney → Bernd Könnes\nJack O’Brien / Jakob Schmidt → Andrés Felipe Orozco\nBill\, genannt „Sparbüchsenbill“ → Robert Merwald\nJoe\, genannt „Alaskawolfjoe“ → Ryszard Kalus\nTobby Higgins → Ramin Varzandeh\nSprecherin → Sina GüntherOpernchor der TOG\nNeubrandenburger Philharmonie
URL:https://lauraalbert.de/termine/aufstieg-fall-der-stadt-mahagonny-2/
LOCATION:Landestheater Neustrelitz\, Friedrich-Ludwig-Jahn-Straße 14\, Neustrelitz\, Mecklenburg-Vorpommern\, 17235
CATEGORIES:Landestheater Neustrelitz,Oper,Philharmonie Neubrandenburg
END:VEVENT
END:VCALENDAR