BEGIN:VCALENDAR
VERSION:2.0
PRODID:-//Laura Albert - ECPv6.15.14//NONSGML v1.0//EN
CALSCALE:GREGORIAN
METHOD:PUBLISH
X-WR-CALNAME:Laura Albert
X-ORIGINAL-URL:https://lauraalbert.de
X-WR-CALDESC:Veranstaltungen für Laura Albert
REFRESH-INTERVAL;VALUE=DURATION:PT1H
X-Robots-Tag:noindex
X-PUBLISHED-TTL:PT1H
BEGIN:VTIMEZONE
TZID:Europe/Berlin
BEGIN:DAYLIGHT
TZOFFSETFROM:+0100
TZOFFSETTO:+0200
TZNAME:CEST
DTSTART:20240331T010000
END:DAYLIGHT
BEGIN:STANDARD
TZOFFSETFROM:+0200
TZOFFSETTO:+0100
TZNAME:CET
DTSTART:20241027T010000
END:STANDARD
BEGIN:DAYLIGHT
TZOFFSETFROM:+0100
TZOFFSETTO:+0200
TZNAME:CEST
DTSTART:20250330T010000
END:DAYLIGHT
BEGIN:STANDARD
TZOFFSETFROM:+0200
TZOFFSETTO:+0100
TZNAME:CET
DTSTART:20251026T010000
END:STANDARD
BEGIN:DAYLIGHT
TZOFFSETFROM:+0100
TZOFFSETTO:+0200
TZNAME:CEST
DTSTART:20260329T010000
END:DAYLIGHT
BEGIN:STANDARD
TZOFFSETFROM:+0200
TZOFFSETTO:+0100
TZNAME:CET
DTSTART:20261025T010000
END:STANDARD
END:VTIMEZONE
BEGIN:VEVENT
DTSTART;TZID=Europe/Berlin:20250301T190000
DTEND;TZID=Europe/Berlin:20250301T233000
DTSTAMP:20260424T180426
CREATED:20250115T161255Z
LAST-MODIFIED:20250115T161303Z
UID:5011-1740855600-1740871800@lauraalbert.de
SUMMARY:Theaterball Landestheater Neustrelitz
DESCRIPTION:Das diesjährige Motto lautet „Zirkus“. \n  \nMit Auszügen aus Musicals\, Oper und Operette.
URL:https://lauraalbert.de/termine/theaterball/
LOCATION:Landestheater Neustrelitz\, Friedrich-Ludwig-Jahn-Straße 14\, Neustrelitz\, Mecklenburg-Vorpommern\, 17235
CATEGORIES:Konzert,Landestheater Neustrelitz,Musical,Oper,Operette
END:VEVENT
END:VCALENDAR