BEGIN:VCALENDAR
VERSION:2.0
PRODID:-//Laura Albert - ECPv6.15.14//NONSGML v1.0//EN
CALSCALE:GREGORIAN
METHOD:PUBLISH
X-ORIGINAL-URL:https://lauraalbert.de
X-WR-CALDESC:Veranstaltungen für Laura Albert
REFRESH-INTERVAL;VALUE=DURATION:PT1H
X-Robots-Tag:noindex
X-PUBLISHED-TTL:PT1H
BEGIN:VTIMEZONE
TZID:Europe/Berlin
BEGIN:DAYLIGHT
TZOFFSETFROM:+0100
TZOFFSETTO:+0200
TZNAME:CEST
DTSTART:20240331T010000
END:DAYLIGHT
BEGIN:STANDARD
TZOFFSETFROM:+0200
TZOFFSETTO:+0100
TZNAME:CET
DTSTART:20241027T010000
END:STANDARD
BEGIN:DAYLIGHT
TZOFFSETFROM:+0100
TZOFFSETTO:+0200
TZNAME:CEST
DTSTART:20250330T010000
END:DAYLIGHT
BEGIN:STANDARD
TZOFFSETFROM:+0200
TZOFFSETTO:+0100
TZNAME:CET
DTSTART:20251026T010000
END:STANDARD
BEGIN:DAYLIGHT
TZOFFSETFROM:+0100
TZOFFSETTO:+0200
TZNAME:CEST
DTSTART:20260329T010000
END:DAYLIGHT
BEGIN:STANDARD
TZOFFSETFROM:+0200
TZOFFSETTO:+0100
TZNAME:CET
DTSTART:20261025T010000
END:STANDARD
END:VTIMEZONE
BEGIN:VEVENT
DTSTART;TZID=Europe/Berlin:20250517T193000
DTEND;TZID=Europe/Berlin:20250517T223000
DTSTAMP:20260424T102257
CREATED:20250502T113752Z
LAST-MODIFIED:20250502T113826Z
UID:5152-1747510200-1747521000@lauraalbert.de
SUMMARY:Chicago
DESCRIPTION:BESETZUNG\nConferencier → Markus Kopp\nVelma Kelly → Laura Albert\nFred Casely → Krysztof Napierala\nRoxie Hart → Laura Scherwitzl\nAmos Hart → Sebastian Naglatzki\nSergeant Fogarty → Andreas Hartig\nLiz → Sylke Urbanek\nAnnie → Gabrielle Penney\nJune → Grit Kolpatzik\nHunyak → Clarissa Gehring\nMona → Fernanda de Araujo\nOberin Morton→ Anke Fiedler\nBilly Flynn → Andrés Felipe Orozco\nEin Schneider → Sungwoo Park\nMary Sunshine → Barbara Legiehn\nKitty → Hyun-Kyung Kang\nHarry\, ihr Mann → DTK\nEin Arzt → Changmin Lee\nAaron\, Anwalt → Ramin Varzandeh\nGerichtsdiener → Hyoung-Jun Lim\nHarrison\, Staatsanwalt → Marin Silni\nRichterin → Sylke Urbanek\nJustizia → Rebecca Backus \n  \nOpernchor der TOG\nDeutsche Tanzkompanie\nNeubrandenburger Philharmonie  \n  \nMusikalische Leitung → David Levi\nInszenierung und Choreographie → Amy Share-Kissiov\nBühnenbild → Olga von Wahl\nKostümbild → Alexandra Bentele\nChor → Joseph Feigl
URL:https://lauraalbert.de/termine/chicago-6/
LOCATION:Landestheater Neustrelitz\, Friedrich-Ludwig-Jahn-Straße 14\, Neustrelitz\, Mecklenburg-Vorpommern\, 17235
CATEGORIES:Landestheater Neustrelitz,Mecklenburg-Vorpommern,Musical
END:VEVENT
END:VCALENDAR