BEGIN:VCALENDAR
VERSION:2.0
PRODID:-//Laura Albert - ECPv6.15.14//NONSGML v1.0//EN
CALSCALE:GREGORIAN
METHOD:PUBLISH
X-ORIGINAL-URL:https://lauraalbert.de
X-WR-CALDESC:Veranstaltungen für Laura Albert
REFRESH-INTERVAL;VALUE=DURATION:PT1H
X-Robots-Tag:noindex
X-PUBLISHED-TTL:PT1H
BEGIN:VTIMEZONE
TZID:Europe/Berlin
BEGIN:DAYLIGHT
TZOFFSETFROM:+0100
TZOFFSETTO:+0200
TZNAME:CEST
DTSTART:20240331T010000
END:DAYLIGHT
BEGIN:STANDARD
TZOFFSETFROM:+0200
TZOFFSETTO:+0100
TZNAME:CET
DTSTART:20241027T010000
END:STANDARD
BEGIN:DAYLIGHT
TZOFFSETFROM:+0100
TZOFFSETTO:+0200
TZNAME:CEST
DTSTART:20250330T010000
END:DAYLIGHT
BEGIN:STANDARD
TZOFFSETFROM:+0200
TZOFFSETTO:+0100
TZNAME:CET
DTSTART:20251026T010000
END:STANDARD
BEGIN:DAYLIGHT
TZOFFSETFROM:+0100
TZOFFSETTO:+0200
TZNAME:CEST
DTSTART:20260329T010000
END:DAYLIGHT
BEGIN:STANDARD
TZOFFSETFROM:+0200
TZOFFSETTO:+0100
TZNAME:CET
DTSTART:20261025T010000
END:STANDARD
END:VTIMEZONE
BEGIN:VEVENT
DTSTART;TZID=Europe/Berlin:20250621T193000
DTEND;TZID=Europe/Berlin:20250621T223000
DTSTAMP:20260424T084533
CREATED:20250502T113358Z
LAST-MODIFIED:20250502T113631Z
UID:5148-1750534200-1750545000@lauraalbert.de
SUMMARY:Le Nozze di Figaro
DESCRIPTION:BESETZUNG\nGraf Almaviva → Robert Merwald\nGräfin Almaviva → Laura Albert\nSusanna\, deren Kammermädchen → Laura Scherwitzl / Melissa Domingues\nFigaro\, Kammerdiener des Grafen → Sebastian Naglatzki\nCherubino\, Page des Grafen  → Sina Günther\nMarcellina → Veronika Tokareva\nBasilio\, Musikmeister → Andrés Felipe Orozco\nDon Curzio\, Richter → Tobias Völklein\nBartolo\, Arzt aus Sevilla → Ryszard Kalus\nAntonio\, Gärtner des Grafen → Changmin Lee\nBarbarina\, seine Tochter → Clara-Marie Schade \n  \nOpernchor der TOG\nNeubrandenburger Philharmonie \n  \nMusikalische Leitung → GMD Daniel Geiss\nInszenierung → Sven Müller\nBühnen- und Kostümbild → Lena Brexendorff\nEinstudierung Chor → Joseph Feigl\nDramaturgie → Martin von Bargen
URL:https://lauraalbert.de/termine/le-nozze-di-figaro-7/
LOCATION:Landestheater Neustrelitz\, Friedrich-Ludwig-Jahn-Straße 14\, Neustrelitz\, Mecklenburg-Vorpommern\, 17235
CATEGORIES:Landestheater Neustrelitz,Mecklenburg-Vorpommern,Oper,Philharmonie Neubrandenburg
END:VEVENT
END:VCALENDAR