BEGIN:VCALENDAR
VERSION:2.0
PRODID:-//Laura Albert - ECPv6.15.14//NONSGML v1.0//EN
CALSCALE:GREGORIAN
METHOD:PUBLISH
X-WR-CALNAME:Laura Albert
X-ORIGINAL-URL:https://lauraalbert.de
X-WR-CALDESC:Veranstaltungen für Laura Albert
REFRESH-INTERVAL;VALUE=DURATION:PT1H
X-Robots-Tag:noindex
X-PUBLISHED-TTL:PT1H
BEGIN:VTIMEZONE
TZID:Europe/Berlin
BEGIN:DAYLIGHT
TZOFFSETFROM:+0100
TZOFFSETTO:+0200
TZNAME:CEST
DTSTART:20240331T010000
END:DAYLIGHT
BEGIN:STANDARD
TZOFFSETFROM:+0200
TZOFFSETTO:+0100
TZNAME:CET
DTSTART:20241027T010000
END:STANDARD
BEGIN:DAYLIGHT
TZOFFSETFROM:+0100
TZOFFSETTO:+0200
TZNAME:CEST
DTSTART:20250330T010000
END:DAYLIGHT
BEGIN:STANDARD
TZOFFSETFROM:+0200
TZOFFSETTO:+0100
TZNAME:CET
DTSTART:20251026T010000
END:STANDARD
BEGIN:DAYLIGHT
TZOFFSETFROM:+0100
TZOFFSETTO:+0200
TZNAME:CEST
DTSTART:20260329T010000
END:DAYLIGHT
BEGIN:STANDARD
TZOFFSETFROM:+0200
TZOFFSETTO:+0100
TZNAME:CET
DTSTART:20261025T010000
END:STANDARD
END:VTIMEZONE
BEGIN:VEVENT
DTSTART;TZID=Europe/Berlin:20250718T200000
DTEND;TZID=Europe/Berlin:20250718T230000
DTSTAMP:20260424T070800
CREATED:20240616T194720Z
LAST-MODIFIED:20250502T115241Z
UID:4690-1752868800-1752879600@lauraalbert.de
SUMMARY:Die Zirkusprinzessin PREMIERE
DESCRIPTION:BESETZUNG \nFürstin Fedora Palinska → Laura Albert\nPrinz Sergius Wladimir → Robert Merwald\nGraf Sakusin\, Rittmeister → Krzystof Napierala\nGraf v. Petrowitsch\, Leutnant → Ramin Varzandeh\nDirektor Stanislawski → Ryszard Kalus\nMister X → Bernd Könnes / Andrés Felipe Orozco\nLuigi Pinelli\, Regisseur und Clown → Lothar Dreyer\nMiss Mabel Gibson\, Zirkusreiterin → Laura Scherwitzl\nCarla Schlumberger\, Hotelbesitzerin → Grit Kolpatzik\nToni\, ihr Sohn → Kyoungloul Kim\nPelikan\, Oberkellner → Markus Kopp\nMary\, Barmädchen des Zirkus → Sylke Urbanek\nHaushofmeister des Prinzen → Andreas Hartig \n  \nZirkus-Act – Cyr Wheel → Lea Toran Jenner \n  \nOpernchor der TOG / Extrachor der TOG\nDeutsche Tanzkompanie\nNeubrandenburger Philharmonie \n  \nMusikalische Leitung → Kenichiro Kojima\nInszenierung → Jasmin Solfaghari\nBühnen- und Kostümbild → Walter Schütze\nChoreographie → José Caba\nEinstudierung Chor → Joseph Feigl\nDramaturgie → Martin von Bargen
URL:https://lauraalbert.de/termine/die-zirkusprinzessin-premiere/
LOCATION:Schlossgarten Neustrelitz\, Hertelstraße 8\, Neustrelitz\, Mecklenburg-Vorpommern\, 17235
CATEGORIES:Landestheater Neustrelitz,Mecklenburg-Vorpommern,Operette,Philharmonie Neubrandenburg,Premieren
END:VEVENT
END:VCALENDAR