BEGIN:VCALENDAR
VERSION:2.0
PRODID:-//Laura Albert - ECPv6.15.14//NONSGML v1.0//EN
CALSCALE:GREGORIAN
METHOD:PUBLISH
X-ORIGINAL-URL:https://lauraalbert.de
X-WR-CALDESC:Veranstaltungen für Laura Albert
REFRESH-INTERVAL;VALUE=DURATION:PT1H
X-Robots-Tag:noindex
X-PUBLISHED-TTL:PT1H
BEGIN:VTIMEZONE
TZID:Europe/Berlin
BEGIN:DAYLIGHT
TZOFFSETFROM:+0100
TZOFFSETTO:+0200
TZNAME:CEST
DTSTART:20250330T010000
END:DAYLIGHT
BEGIN:STANDARD
TZOFFSETFROM:+0200
TZOFFSETTO:+0100
TZNAME:CET
DTSTART:20251026T010000
END:STANDARD
BEGIN:DAYLIGHT
TZOFFSETFROM:+0100
TZOFFSETTO:+0200
TZNAME:CEST
DTSTART:20260329T010000
END:DAYLIGHT
BEGIN:STANDARD
TZOFFSETFROM:+0200
TZOFFSETTO:+0100
TZNAME:CET
DTSTART:20261025T010000
END:STANDARD
BEGIN:DAYLIGHT
TZOFFSETFROM:+0100
TZOFFSETTO:+0200
TZNAME:CEST
DTSTART:20270328T010000
END:DAYLIGHT
BEGIN:STANDARD
TZOFFSETFROM:+0200
TZOFFSETTO:+0100
TZNAME:CET
DTSTART:20271031T010000
END:STANDARD
END:VTIMEZONE
BEGIN:VEVENT
DTSTART;TZID=Europe/Berlin:20260111T110000
DTEND;TZID=Europe/Berlin:20260111T140000
DTSTAMP:20260423T224055
CREATED:20250630T154930Z
LAST-MODIFIED:20250710T125540Z
UID:5401-1768129200-1768140000@lauraalbert.de
SUMMARY:Wiener Neujahrsgala Oberhausen
DESCRIPTION:Bereits zum 10. Mal lädt das von der Mülheimer Cellistin Carolin Schröder gegründete Sinfonieorchester Ruhr unter der Gesamtleitung von Mareike Jörling zu einem Programm ganz im Zeichen musikalischer Leichtigkeit um spritzig und beschwingt ins Jahr 2026 zu starten. Tauchen Sie gemäß dem Motto „Wiener Neujahrsgala“ ein in die Welt der Operetten- und Walzerklänge und beginnen Sie das neue Jahr ganz nach Wiener Tradition mit den großen Komponisten der Strauß Dynastie. Nicht nur für eingeschworene Klassikkenner ist die traditionelle Neujahrsgala 2026 mit dem Sinfonieorchester Ruhr ein besonderes Event zum Jahresanfang. \nAusführende:\nSinfonieorchester Ruhr\nMareike Jörling – Dirigentin \nSolisten:\nLaura Albert – Sopran\nMaximilian Fieth – Tenor \nLuise- Albertz- Halle Oberhausen\nDüppelstraße 1\n46045 Oberhausen \nDie Vorverkaufsstellen (ab Anfang September 2025); \nDirekt hier:  \noder \nTOURIST INFORMATION Oberhausen\nWilly-Brandt-Platz 2\n46045 Oberhausen \noder \nTOURIST INFORMATION im Westfield Centro\n(an der Coca-Cola-Oase) 46047 Oberhausen
URL:https://lauraalbert.de/termine/wiener-neujahrsgala-oberhausen/
LOCATION:Luise-Albertz-Halle\, Oberhausen\, Nordrhein Westfalen\, 46149\, Deutschland
CATEGORIES:Konzert,Nordrhein-Westfalen,Operette,Sinfonieorchester Ruhr
END:VEVENT
END:VCALENDAR