BEGIN:VCALENDAR
VERSION:2.0
PRODID:-//Laura Albert - ECPv6.15.14//NONSGML v1.0//EN
CALSCALE:GREGORIAN
METHOD:PUBLISH
X-WR-CALNAME:Laura Albert
X-ORIGINAL-URL:https://lauraalbert.de
X-WR-CALDESC:Veranstaltungen für Laura Albert
REFRESH-INTERVAL;VALUE=DURATION:PT1H
X-Robots-Tag:noindex
X-PUBLISHED-TTL:PT1H
BEGIN:VTIMEZONE
TZID:Europe/Berlin
BEGIN:DAYLIGHT
TZOFFSETFROM:+0100
TZOFFSETTO:+0200
TZNAME:CEST
DTSTART:20250330T010000
END:DAYLIGHT
BEGIN:STANDARD
TZOFFSETFROM:+0200
TZOFFSETTO:+0100
TZNAME:CET
DTSTART:20251026T010000
END:STANDARD
BEGIN:DAYLIGHT
TZOFFSETFROM:+0100
TZOFFSETTO:+0200
TZNAME:CEST
DTSTART:20260329T010000
END:DAYLIGHT
BEGIN:STANDARD
TZOFFSETFROM:+0200
TZOFFSETTO:+0100
TZNAME:CET
DTSTART:20261025T010000
END:STANDARD
BEGIN:DAYLIGHT
TZOFFSETFROM:+0100
TZOFFSETTO:+0200
TZNAME:CEST
DTSTART:20270328T010000
END:DAYLIGHT
BEGIN:STANDARD
TZOFFSETFROM:+0200
TZOFFSETTO:+0100
TZNAME:CET
DTSTART:20271031T010000
END:STANDARD
END:VTIMEZONE
BEGIN:VEVENT
DTSTART;TZID=Europe/Berlin:20260118T110000
DTEND;TZID=Europe/Berlin:20260118T130000
DTSTAMP:20260423T223843
CREATED:20260103T113612Z
LAST-MODIFIED:20260103T113706Z
UID:5559-1768734000-1768741200@lauraalbert.de
SUMMARY:Königskinder MATINÉE
DESCRIPTION:Königskinder\nMärchenoper für Erwachsene von Engelbert Humperdinck\n\n\n\n\nText von Ernst Rosmer (Pseud. Elsa Bernstein) \n\n\nEin Zauberwald – durchstreift von einem Königsohn\, wird er seiner Braut gewahr in einer Gänsemagd\, die unter dem Bann einer Hexe steht. Die Menschen – sie suchen einen König\, aber wollen das junge Herrscherpaar nicht erkennen. Davongejagt\, verirrt es sich im Winterwald. Klingt das wie ein – Märchen? \n1910 an der New Yorker MET uraufgeführt\, etablierten sich die „Königskinder“ rasch als zweiter großer Erfolg des „Hänsel und Gretel“-Komponisten\, der in Neustrelitz starb. Ein Märchen für Erwachsene\, gerieten die „Königskinder“ zunehmend in Vergessenheit\, erlebten allerdings in den letzten Jahrzehnten eine Renaissance. \nLars Scheibner\, bekannt für bildgewaltige Sprache\, erschafft zusammen mit Robert Pflanz (Bühne) und Dr. Marcus Doering (Licht) ein sinnlich-metaphysisches Theatererlebnis mit der surrealen Kraft von Jugendstil bis Stummfilm\, in dem Musik\, Körper\, Raum und Licht miteinander verwoben werden. Eine Hommage an die Sehnsucht und die Unergründlichkeit der menschlichen Natur\, die versucht zu deuten\, warum Menschen immer wieder suchen nach der Lichtgestalt als Führer und Verführer. Und in unserer Welt immer weniger Raum ist für Ängste\, Sehnsucht\, Idealismus und Intuition der Kinder\, die oft klarer sehen\, was wahr ist oder nur Schein. \n\nBESETZUNG\nDer Königssohn: Alexander GellerDie Gänsemagd: Laura AlbertDer Spielmann: Robert MerwaldDie Hexe: Natalie JurkDer Holzhacker: Ryszard KalusDer Besenbinder: Andrés Felipe OrozcoSein Töchterchen: Laura ScherwitzlDer Ratsälteste: Krzystof NapieralaDer Wirt: Changmin LeeDie Wirtstochter: Sina DollingerDer Schneider:  Ramin VarzandehDie Stallmagd: Barbara LegiehnZwei Torwächter: Hyoung-Jun Lim\, Andreas HartigEine Frau: Grit Kolpatzik  \nOpernchor der TOG\nNeubrandenburger Philharmonie \n  \nMusikalische Leitung: Kenichiro Kojima\nInszenierung: Lars Scheibner\nBühnen- und Kostümbild: Robert Pflanz\nInteraktives Licht: Dr. Marcus Doering\nChor: Joseph Feigl\nDramaturgie: Martin von Bargen \n  \nIn Zusammenarbeit mit dem Labor für darstellende Kunst und Digitalität (Leitung Dr. Marcus Doering)\, gefördert vom Ministerium für Wissenschaft\, Kultur\, Bundes- und Europaangelegenheiten Mecklenburg-Vorpommern.
URL:https://lauraalbert.de/termine/matinee-koenigskinder/
LOCATION:Landestheater Neustrelitz\, Friedrich-Ludwig-Jahn-Straße 14\, Neustrelitz\, Mecklenburg-Vorpommern\, 17235
CATEGORIES:Landestheater Neustrelitz,Mecklenburg-Vorpommern,Oper
END:VEVENT
END:VCALENDAR