BEGIN:VCALENDAR
VERSION:2.0
PRODID:-//Laura Albert - ECPv6.15.14//NONSGML v1.0//EN
CALSCALE:GREGORIAN
METHOD:PUBLISH
X-WR-CALNAME:Laura Albert
X-ORIGINAL-URL:https://lauraalbert.de
X-WR-CALDESC:Veranstaltungen für Laura Albert
REFRESH-INTERVAL;VALUE=DURATION:PT1H
X-Robots-Tag:noindex
X-PUBLISHED-TTL:PT1H
BEGIN:VTIMEZONE
TZID:UTC
BEGIN:STANDARD
TZOFFSETFROM:+0000
TZOFFSETTO:+0000
TZNAME:UTC
DTSTART:20220101T000000
END:STANDARD
END:VTIMEZONE
BEGIN:VEVENT
DTSTART;TZID=UTC:20231215T193000
DTEND;TZID=UTC:20231215T230000
DTSTAMP:20260425T153432
CREATED:20231124T131925Z
LAST-MODIFIED:20231124T140256Z
UID:4124-1702668600-1702681200@lauraalbert.de
SUMMARY:The Famous Door on Swing Street
DESCRIPTION:BESETZUNG: \nAnna\, eine DJane: Laura Scherwitzl \nMike\, ein Banker: Andrés Felipe Orozco \nDoris\, Besitzerin eines Plattenladens: Bettina Meske \nPete\, Stepptänzer: Niklas Schurz \nTom\, ein Banker: Sebastian Naglatzki \nSwing Sisters: So Yeon Yang\, Laura Albert\, Julia Baier-Tarasova \n  \nOpernchor der TOG\nDeutsche Tanzkompanie\nNeubrandenburger Philharmonie \n  \nMusikalische Leitung: Thilo Wolf \nInszenierung und Choreographie: Gaines Hall \nBühnen- und Kostümbild: Dirk Immich
URL:https://lauraalbert.de/termine/the-famous-door-on-swing-street/
LOCATION:Landestheater Neustrelitz\, Friedrich-Ludwig-Jahn-Straße 14\, Neustrelitz\, Mecklenburg-Vorpommern\, 17235
CATEGORIES:Landestheater Neustrelitz,Musical,Philharmonie Neubrandenburg
END:VEVENT
BEGIN:VEVENT
DTSTART;TZID=UTC:20231226T193000
DTEND;TZID=UTC:20231226T223000
DTSTAMP:20260425T153432
CREATED:20231124T132130Z
LAST-MODIFIED:20231124T170932Z
UID:4129-1703619000-1703629800@lauraalbert.de
SUMMARY:The Famous Door on Swing Street
DESCRIPTION:BESETZUNG: \nAnna\, eine DJane: Laura Scherwitzl \nMike\, ein Banker: Andrés Felipe Orozco \nDoris\, Besitzerin eines Plattenladens: Bettina Meske \nPete\, Stepptänzer: Niklas Schurz \nTom\, ein Banker: Sebastian Naglatzki \nSwing Sisters: So Yeon Yang\, Laura Albert\, Julia Baier-Tarasova \n  \nOpernchor der TOG\nDeutsche Tanzkompanie\nNeubrandenburger Philharmonie \n  \nMusikalische Leitung: Thilo Wolf \nInszenierung und Choreographie: Gaines Hall \nBühnen- und Kostümbild: Dirk Immich
URL:https://lauraalbert.de/termine/the-famous-door-on-swing-street-musical/
LOCATION:Landestheater Neustrelitz\, Friedrich-Ludwig-Jahn-Straße 14\, Neustrelitz\, Mecklenburg-Vorpommern\, 17235
CATEGORIES:Landestheater Neustrelitz,Musical
END:VEVENT
END:VCALENDAR