BEGIN:VCALENDAR
VERSION:2.0
PRODID:-//Laura Albert - ECPv6.15.14//NONSGML v1.0//EN
CALSCALE:GREGORIAN
METHOD:PUBLISH
X-WR-CALNAME:Laura Albert
X-ORIGINAL-URL:https://lauraalbert.de
X-WR-CALDESC:Veranstaltungen für Laura Albert
REFRESH-INTERVAL;VALUE=DURATION:PT1H
X-Robots-Tag:noindex
X-PUBLISHED-TTL:PT1H
BEGIN:VTIMEZONE
TZID:UTC
BEGIN:STANDARD
TZOFFSETFROM:+0000
TZOFFSETTO:+0000
TZNAME:UTC
DTSTART:20230101T000000
END:STANDARD
END:VTIMEZONE
BEGIN:VEVENT
DTSTART;TZID=UTC:20240101T180000
DTEND;TZID=UTC:20240101T230000
DTSTAMP:20260425T140148
CREATED:20230804T091518Z
LAST-MODIFIED:20231124T132438Z
UID:3950-1704132000-1704150000@lauraalbert.de
SUMMARY:Die Hochzeit des Figaro
DESCRIPTION:Gastspiel der Kammeroper München im Cuvilliéstheater in München. \nGräfin d‘Almaviva: Laura Albert
URL:https://lauraalbert.de/termine/die-hochzeit-des-figaro-cuvilliestheater/
LOCATION:Cuvilliéstheater München\, Residenzstraße 1\, München\, Bayern\, 80333\, Deutschland
CATEGORIES:Kammeroper München,Oper
END:VEVENT
BEGIN:VEVENT
DTSTART;TZID=UTC:20240107T160000
DTEND;TZID=UTC:20240107T183000
DTSTAMP:20260425T140148
CREATED:20231124T135348Z
LAST-MODIFIED:20231124T135348Z
UID:4140-1704643200-1704652200@lauraalbert.de
SUMMARY:The Famous Door on Swing Street
DESCRIPTION:BESETZUNG: \nAnna\, eine DJane: Laura Scherwitzl \nMike\, ein Banker: Andrés Felipe Orozco \nDoris\, Besitzerin eines Plattenladens: Bettina Meske \nPete\, Stepptänzer: Niklas Schurz \nTom\, ein Banker: Sebastian Naglatzki \nSwing Sisters: So Yeon Yang\, Laura Albert\, Julia Baier-Tarasova \n  \nOpernchor der TOG\nDeutsche Tanzkompanie\nNeubrandenburger Philharmonie \n  \nMusikalische Leitung: Thilo Wolf \nInszenierung und Choreographie: Gaines Hall \nBühnen- und Kostümbild: Dirk Immich
URL:https://lauraalbert.de/termine/the-famous-door-on-swing-street-2/
LOCATION:Landestheater Neustrelitz\, Friedrich-Ludwig-Jahn-Straße 14\, Neustrelitz\, Mecklenburg-Vorpommern\, 17235
CATEGORIES:Landestheater Neustrelitz,Musical,Philharmonie Neubrandenburg
END:VEVENT
BEGIN:VEVENT
DTSTART;TZID=UTC:20240120T193000
DTEND;TZID=UTC:20240120T213000
DTSTAMP:20260425T140148
CREATED:20231124T135612Z
LAST-MODIFIED:20231124T135657Z
UID:4144-1705779000-1705786200@lauraalbert.de
SUMMARY:The Famous Door on Swing Street
DESCRIPTION:BESETZUNG: \nAnna\, eine DJane: Laura Scherwitzl \nMike\, ein Banker: Andrés Felipe Orozco \nDoris\, Besitzerin eines Plattenladens: Bettina Meske \nPete\, Stepptänzer: Niklas Schurz \nTom\, ein Banker: Sebastian Naglatzki \nSwing Sisters: So Yeon Yang\, Laura Albert\, Julia Baier-Tarasova \n  \nOpernchor der TOG\nDeutsche Tanzkompanie\nNeubrandenburger Philharmonie \n  \nMusikalische Leitung: Thilo Wolf \nInszenierung und Choreographie: Gaines Hall \nBühnen- und Kostümbild: Dirk Immich
URL:https://lauraalbert.de/termine/the-famous-door-on-swing-street-4/
LOCATION:Landestheater Neustrelitz\, Friedrich-Ludwig-Jahn-Straße 14\, Neustrelitz\, Mecklenburg-Vorpommern\, 17235
CATEGORIES:Landestheater Neustrelitz,Musical,Philharmonie Neubrandenburg
END:VEVENT
BEGIN:VEVENT
DTSTART;TZID=UTC:20240127T190000
DTEND;TZID=UTC:20240127T210000
DTSTAMP:20260425T140148
CREATED:20230601T071345Z
LAST-MODIFIED:20231124T132414Z
UID:3823-1706382000-1706389200@lauraalbert.de
SUMMARY:Der Freischütz
DESCRIPTION:BESETZUNG \nOttokar\, böhmischer Fürst: Robert Merwald \nCuno\, fürstlicher Erbförster: Jörn Schüman \nAgathe\, seine Tochter: Laura Albert / Im April: So Yeon Yang \nÄnnchen\, eine junge Verwandte: Laura Scherwitzl \nCaspar\, 1. Jägerbursche: Sebastian Naglatzki \nMax\, 2. Jägerbursche: Bernd Könnes \nEin Eremit: Ryszard Kalus \nKilian\, ein reicher Bauer: Andrés Felipe Orozco \nVier Brautjungfern: Frieda Finning\, Mara Kubetschek\, Katerina Moschner\, Melina Moschner \nSamiel: Axel Rothe \n  \nOpernchor der TOG\nNeubrandenburger Philharmonie \n  \nMusikalische Leitung: GMD Daniel Geiss\nInszenierung: Sven Müller\nBühnen- und Kostümbild: Madeleine Boyd\nChor: Joseph Feigl\nDramaturgie: Konstanze Kaas
URL:https://lauraalbert.de/termine/c-m-von-weber-der-freischuetz/
LOCATION:Landestheater Neustrelitz\, Friedrich-Ludwig-Jahn-Straße 14\, Neustrelitz\, Mecklenburg-Vorpommern\, 17235
CATEGORIES:Landestheater Neustrelitz,Oper,Philharmonie Neubrandenburg,Premieren
END:VEVENT
END:VCALENDAR