BEGIN:VCALENDAR
VERSION:2.0
PRODID:-//Laura Albert - ECPv6.15.14//NONSGML v1.0//EN
CALSCALE:GREGORIAN
METHOD:PUBLISH
X-WR-CALNAME:Laura Albert
X-ORIGINAL-URL:https://lauraalbert.de
X-WR-CALDESC:Veranstaltungen für Laura Albert
REFRESH-INTERVAL;VALUE=DURATION:PT1H
X-Robots-Tag:noindex
X-PUBLISHED-TTL:PT1H
BEGIN:VTIMEZONE
TZID:Europe/Berlin
BEGIN:DAYLIGHT
TZOFFSETFROM:+0100
TZOFFSETTO:+0200
TZNAME:CEST
DTSTART:20230326T010000
END:DAYLIGHT
BEGIN:STANDARD
TZOFFSETFROM:+0200
TZOFFSETTO:+0100
TZNAME:CET
DTSTART:20231029T010000
END:STANDARD
BEGIN:DAYLIGHT
TZOFFSETFROM:+0100
TZOFFSETTO:+0200
TZNAME:CEST
DTSTART:20240331T010000
END:DAYLIGHT
BEGIN:STANDARD
TZOFFSETFROM:+0200
TZOFFSETTO:+0100
TZNAME:CET
DTSTART:20241027T010000
END:STANDARD
BEGIN:DAYLIGHT
TZOFFSETFROM:+0100
TZOFFSETTO:+0200
TZNAME:CEST
DTSTART:20250330T010000
END:DAYLIGHT
BEGIN:STANDARD
TZOFFSETFROM:+0200
TZOFFSETTO:+0100
TZNAME:CET
DTSTART:20251026T010000
END:STANDARD
END:VTIMEZONE
BEGIN:VTIMEZONE
TZID:UTC
BEGIN:STANDARD
TZOFFSETFROM:+0000
TZOFFSETTO:+0000
TZNAME:UTC
DTSTART:20230101T000000
END:STANDARD
END:VTIMEZONE
BEGIN:VEVENT
DTSTART;TZID=Europe/Berlin:20240706T193000
DTEND;TZID=Europe/Berlin:20240706T213000
DTSTAMP:20260425T023536
CREATED:20240629T064704Z
LAST-MODIFIED:20240629T065856Z
UID:4720-1720294200-1720301400@lauraalbert.de
SUMMARY:Cellofest "Danzas y Lagrimas" Neustrelitz
DESCRIPTION:Unter anderem: \nVilla-Lobos: Bachianas Brasileiras No. 5
URL:https://lauraalbert.de/termine/cellofest-neustrelitz/
LOCATION:Kachelofenfabrik Neustrelitz\, Sandberg 3A\, Neustrelitz\, 17235\, Germany
CATEGORIES:Konzert,Philharmonie Neubrandenburg
END:VEVENT
BEGIN:VEVENT
DTSTART;TZID=UTC:20240712T190000
DTEND;TZID=UTC:20240712T210000
DTSTAMP:20260425T023536
CREATED:20230601T071203Z
LAST-MODIFIED:20240316T081444Z
UID:3820-1720810800-1720818000@lauraalbert.de
SUMMARY:Ein Walzertraum PREMIERE
DESCRIPTION:Der Name Straus(s) scheint zu wunderbarem Schaffen für die Musikgeschichte regelrecht zu verpflichten! Am 6. April 1870 in Wien geboren\, studierte Oscar Straus zunächst in seiner Heimatstadt Klavier und Komposition\, ehe er sein Kompositionsstudium in Berlin bei Max Bruch fortsetzte. Während des 1. Weltkrieges verzichtete Straus\, ganz Weltbürger und Zivilist\, als einer der wenigen Zunftgenossen auf das Schreiben militaristischer Stücke. \n„Ein Walzertraum“ ist mit rund 1000 Aufführungen am Stück die international erfolgreichste Operette des Komponisten. Auch eine Hollywood-Verfilmung unter dem Titel „Der lächelnde Leutnant“ brachte mit Regisseur Ernst Lubitsch und Maurice Chevalier in der Hauptrolle weitere Bekanntheit. Herrliche Walzer\, eingängige Melodien und sinnlich klingende Emotionen begeistern ein Operetten-Publikum noch heute. Aus Hollywood folgten unzählige Angebote für Filmmusiken\, derer sich Straus zum Ende seines Schaffens aber nicht mehr annehmen konnte. \nDas Werk kreist um den Wiener Leutnant Niki\, der aus strategischen Gründen die Tochter eines deutschen Landesfürsten heiraten soll. In der deutschen Provinz fühlt sich Niki jedoch höchst unwohl\, zudem möchte er sich auch nicht auf die Rolle als Retter des Fürstentums reduzieren lassen. In der Hochzeitsnacht nimmt er daher Reißaus und trifft auf eine Wiener Damenkapelle\, deren Wiener Musik und temperamentvolle Dirigentin ihm gehörig den Kopf verdrehen … \nBuch von Felix Dörmann und Leopold Jacobson \nTextliche Neubearbeitung von Armin L. Robinson und Eduard Rogati \n  \n\nBESETZUNG\nHelene\, Prinzessin: Laura Albert\nNiki\, Leutnant: Andrés Felipe Orozco\nFranzi Steingruber\, Dirigentin: Laura Scherwitzl\nJoachim XIII. Fürst von Flausenthurn: Sebastian Naglatzki\nGraf Lothar\, sein Vetter: Marcel Esser-Oleniecki\nFriederike von Insterburg: Julia Baier-Tarasova\nMontschi\, Leutnant: Robert Merwald\nWendolin\, Minister: Daniel Valero\nSigismund\, Lakai: Oliver Buck \n  \nAkkordeon: Vladislav Urbansky \n  \nOpern- und Extrachor der TOG\nDeutsche Tanzkompanie Neustrelitz\nNeubrandenburger Philharmonie \n  \nMusikalische Leitung: Daniel Klein / Ina Stoertzenbach\nInszenierung: Roman Hovenbitzer\nBühnenbild: Hermann Feuchter\nKostümbild: Luzie Nehls-Neuhaus\nChoreographie: Sabrina Stein\nChor: Joseph Feigl\nDramaturgie: Dr. Sebastian Richter \n\n\n 
URL:https://lauraalbert.de/termine/oscar-straus-ein-walzertraum/
LOCATION:Schlossgarten Neustrelitz\, Hertelstraße 8\, Neustrelitz\, Mecklenburg-Vorpommern\, 17235
CATEGORIES:Landestheater Neustrelitz,Operette,Philharmonie Neubrandenburg,Premieren
END:VEVENT
BEGIN:VEVENT
DTSTART;TZID=UTC:20240713T193000
DTEND;TZID=UTC:20240713T220000
DTSTAMP:20260425T023536
CREATED:20240316T081246Z
LAST-MODIFIED:20240316T081246Z
UID:4315-1720899000-1720908000@lauraalbert.de
SUMMARY:Ein Walzertraum
DESCRIPTION:BESETZUNG\nHelene\, Prinzessin: Laura Albert\nNiki\, Leutnant: Andrés Felipe Orozco\nFranzi Steingruber\, Dirigentin: Laura Scherwitzl\nJoachim XIII. Fürst von Flausenthurn: Sebastian Naglatzki\nGraf Lothar\, sein Vetter: Marcel Esser-Oleniecki\nFriederike von Insterburg: Julia Baier-Tarasova\nMontschi\, Leutnant: Robert Merwald\nWendolin\, Minister: Daniel Valero\nSigismund\, Lakai: Oliver Buck \n  \nAkkordeon: Vladislav Urbansky \n  \nOpern- und Extrachor der TOG\nDeutsche Tanzkompanie Neustrelitz\nNeubrandenburger Philharmonie \n  \nMusikalische Leitung: Daniel Klein / Ina Stoertzenbach\nInszenierung: Roman Hovenbitzer\nBühnenbild: Hermann Feuchter\nKostümbild: Luzie Nehls-Neuhaus\nChoreographie: Sabrina Stein\nChor: Joseph Feigl\nDramaturgie: Dr. Sebastian Richter
URL:https://lauraalbert.de/termine/ein-walzertraum/
LOCATION:Schlossgarten Neustrelitz\, Hertelstraße 8\, Neustrelitz\, Mecklenburg-Vorpommern\, 17235
CATEGORIES:Landestheater Neustrelitz,Philharmonie Neubrandenburg
END:VEVENT
BEGIN:VEVENT
DTSTART;TZID=UTC:20240718T160000
DTEND;TZID=UTC:20240718T193000
DTSTAMP:20260425T023536
CREATED:20240316T081413Z
LAST-MODIFIED:20240316T081413Z
UID:4317-1721318400-1721331000@lauraalbert.de
SUMMARY:Ein Walzertraum
DESCRIPTION:Der Name Straus(s) scheint zu wunderbarem Schaffen für die Musikgeschichte regelrecht zu verpflichten! Am 6. April 1870 in Wien geboren\, studierte Oscar Straus zunächst in seiner Heimatstadt Klavier und Komposition\, ehe er sein Kompositionsstudium in Berlin bei Max Bruch fortsetzte. Während des 1. Weltkrieges verzichtete Straus\, ganz Weltbürger und Zivilist\, als einer der wenigen Zunftgenossen auf das Schreiben militaristischer Stücke. \n„Ein Walzertraum“ ist mit rund 1000 Aufführungen am Stück die international erfolgreichste Operette des Komponisten. Auch eine Hollywood-Verfilmung unter dem Titel „Der lächelnde Leutnant“ brachte mit Regisseur Ernst Lubitsch und Maurice Chevalier in der Hauptrolle weitere Bekanntheit. Herrliche Walzer\, eingängige Melodien und sinnlich klingende Emotionen begeistern ein Operetten-Publikum noch heute. Aus Hollywood folgten unzählige Angebote für Filmmusiken\, derer sich Straus zum Ende seines Schaffens aber nicht mehr annehmen konnte. \nDas Werk kreist um den Wiener Leutnant Niki\, der aus strategischen Gründen die Tochter eines deutschen Landesfürsten heiraten soll. In der deutschen Provinz fühlt sich Niki jedoch höchst unwohl\, zudem möchte er sich auch nicht auf die Rolle als Retter des Fürstentums reduzieren lassen. In der Hochzeitsnacht nimmt er daher Reißaus und trifft auf eine Wiener Damenkapelle\, deren Wiener Musik und temperamentvolle Dirigentin ihm gehörig den Kopf verdrehen … \nBuch von Felix Dörmann und Leopold Jacobson \nTextliche Neubearbeitung von Armin L. Robinson und Eduard Rogati \n  \n\nBESETZUNG\nHelene\, Prinzessin: Laura Albert\nNiki\, Leutnant: Andrés Felipe Orozco\nFranzi Steingruber\, Dirigentin: Laura Scherwitzl\nJoachim XIII. Fürst von Flausenthurn: Sebastian Naglatzki\nGraf Lothar\, sein Vetter: Marcel Esser-Oleniecki\nFriederike von Insterburg: Julia Baier-Tarasova\nMontschi\, Leutnant: Robert Merwald\nWendolin\, Minister: Daniel Valero\nSigismund\, Lakai: Oliver Buck \n  \nAkkordeon: Vladislav Urbansky \n  \nOpern- und Extrachor der TOG\nDeutsche Tanzkompanie Neustrelitz\nNeubrandenburger Philharmonie \n  \nMusikalische Leitung: Daniel Klein / Ina Stoertzenbach\nInszenierung: Roman Hovenbitzer\nBühnenbild: Hermann Feuchter\nKostümbild: Luzie Nehls-Neuhaus\nChoreographie: Sabrina Stein\nChor: Joseph Feigl\nDramaturgie: Dr. Sebastian Richter
URL:https://lauraalbert.de/termine/ein-walzertraum-2/
LOCATION:Schlossgarten Neustrelitz\, Hertelstraße 8\, Neustrelitz\, Mecklenburg-Vorpommern\, 17235
END:VEVENT
BEGIN:VEVENT
DTSTART;TZID=Europe/Berlin:20240719T200000
DTEND;TZID=Europe/Berlin:20240719T223000
DTSTAMP:20260425T023536
CREATED:20240328T135556Z
LAST-MODIFIED:20240328T135556Z
UID:4405-1721419200-1721428200@lauraalbert.de
SUMMARY:Ein Walzertraum
DESCRIPTION:BESETZUNG\nHelene\, Prinzessin: Laura Albert\nNiki\, Leutnant: Andrés Felipe Orozco\nFranzi Steingruber\, Dirigentin: Laura Scherwitzl\nJoachim XIII. Fürst von Flausenthurn: Sebastian Naglatzki\nGraf Lothar\, sein Vetter: Marcel Oleniecki\nFriederike von Insterburg: Julia Baier-Tarasova\nMontschi\, Leutnant: Robert Merwald\nWendolin\, Minister: Daniel Valero\nSigismund\, Lakai: Oliver Buck \n  \nAkkordeon: Vladislav Urbansky \n  \nOpern- und Extrachor der TOG\nDeutsche Tanzkompanie Neustrelitz\nNeubrandenburger Philharmonie \n  \nMusikalische Leitung: Daniel Klein / Ina Stoertzenbach\nInszenierung: Roman Hovenbitzer\nBühnenbild: Hermann Feuchter\nKostümbild: Luzie Nehls-Neuhaus\nChoreographie: Sabrina Stein\nChor: Joseph Feigl\nDramaturgie: Dr. Sebastian Richter
URL:https://lauraalbert.de/termine/ein-walzertraum-12/
LOCATION:Schlossgarten Neustrelitz\, Hertelstraße 8\, Neustrelitz\, Mecklenburg-Vorpommern\, 17235
CATEGORIES:Landestheater Neustrelitz,Operette,Philharmonie Neubrandenburg
END:VEVENT
BEGIN:VEVENT
DTSTART;TZID=Europe/Berlin:20240720T200000
DTEND;TZID=Europe/Berlin:20240720T223000
DTSTAMP:20260425T023536
CREATED:20240328T135418Z
LAST-MODIFIED:20240503T180454Z
UID:4403-1721505600-1721514600@lauraalbert.de
SUMMARY:Ein Walzertraum (Geschlossene Gesellschaft)
DESCRIPTION:BESETZUNG\nHelene\, Prinzessin: Laura Albert\nNiki\, Leutnant: Andrés Felipe Orozco\nFranzi Steingruber\, Dirigentin: Laura Scherwitzl\nJoachim XIII. Fürst von Flausenthurn: Sebastian Naglatzki\nGraf Lothar\, sein Vetter: Marcel Oleniecki\nFriederike von Insterburg: Julia Baier-Tarasova\nMontschi\, Leutnant: Robert Merwald\nWendolin\, Minister: Daniel Valero\nSigismund\, Lakai: Oliver Buck \n  \nAkkordeon: Vladislav Urbansky \n  \nOpern- und Extrachor der TOG\nDeutsche Tanzkompanie Neustrelitz\nNeubrandenburger Philharmonie \n  \nMusikalische Leitung: Daniel Klein / Ina Stoertzenbach\nInszenierung: Roman Hovenbitzer\nBühnenbild: Hermann Feuchter\nKostümbild: Luzie Nehls-Neuhaus\nChoreographie: Sabrina Stein\nChor: Joseph Feigl\nDramaturgie: Dr. Sebastian Richter
URL:https://lauraalbert.de/termine/ein-walzertraum-11/
LOCATION:Schlossgarten Neustrelitz\, Hertelstraße 8\, Neustrelitz\, Mecklenburg-Vorpommern\, 17235
CATEGORIES:Landestheater Neustrelitz,Operette,Philharmonie Neubrandenburg
END:VEVENT
BEGIN:VEVENT
DTSTART;TZID=Europe/Berlin:20240721T160000
DTEND;TZID=Europe/Berlin:20240721T183000
DTSTAMP:20260425T023536
CREATED:20240328T135309Z
LAST-MODIFIED:20240328T135309Z
UID:4401-1721577600-1721586600@lauraalbert.de
SUMMARY:Ein Walzertraum
DESCRIPTION:BESETZUNG\nHelene\, Prinzessin: Laura Albert\nNiki\, Leutnant: Andrés Felipe Orozco\nFranzi Steingruber\, Dirigentin: Laura Scherwitzl\nJoachim XIII. Fürst von Flausenthurn: Sebastian Naglatzki\nGraf Lothar\, sein Vetter: Marcel Oleniecki\nFriederike von Insterburg: Julia Baier-Tarasova\nMontschi\, Leutnant: Robert Merwald\nWendolin\, Minister: Daniel Valero\nSigismund\, Lakai: Oliver Buck \n  \nAkkordeon: Vladislav Urbansky \n  \nOpern- und Extrachor der TOG\nDeutsche Tanzkompanie Neustrelitz\nNeubrandenburger Philharmonie \n  \nMusikalische Leitung: Daniel Klein / Ina Stoertzenbach\nInszenierung: Roman Hovenbitzer\nBühnenbild: Hermann Feuchter\nKostümbild: Luzie Nehls-Neuhaus\nChoreographie: Sabrina Stein\nChor: Joseph Feigl\nDramaturgie: Dr. Sebastian Richter
URL:https://lauraalbert.de/termine/ein-walzertraum-10/
LOCATION:Schlossgarten Neustrelitz\, Hertelstraße 8\, Neustrelitz\, Mecklenburg-Vorpommern\, 17235
CATEGORIES:Landestheater Neustrelitz,Operette,Philharmonie Neubrandenburg
END:VEVENT
BEGIN:VEVENT
DTSTART;TZID=UTC:20240724T200000
DTEND;TZID=UTC:20240724T223000
DTSTAMP:20260425T023536
CREATED:20230601T061813Z
LAST-MODIFIED:20240316T080857Z
UID:3795-1721851200-1721860200@lauraalbert.de
SUMMARY:Müritz Proms
DESCRIPTION:u. a. mit Highlights aus berühmten Opern wie „Figaros Hochzeit“ und „Don Giovanni“\, „La Traviata“ und „Die Macht des Schicksals“\, sowie beliebte Musical-Melodien aus „Anatevka“ und „Annie Get Your Gun“. \nSolistInnen: \nLaura Albert\, Sopran \nSebastian Naglatzki\, Bariton \nLeitung: GMD Daniel Geiss
URL:https://lauraalbert.de/termine/mueritzer-proms/
LOCATION:Stadthafen Waren/Müritz (Südmole)\, Müritzstraße 14\, Waren\, Mecklenburg-Vorpommern\, 17192\, Deutschland
CATEGORIES:Philharmonie Neubrandenburg
END:VEVENT
BEGIN:VEVENT
DTSTART;TZID=Europe/Berlin:20240725T160000
DTEND;TZID=Europe/Berlin:20240725T183000
DTSTAMP:20260425T023536
CREATED:20240328T135105Z
LAST-MODIFIED:20240328T135105Z
UID:4397-1721923200-1721932200@lauraalbert.de
SUMMARY:Ein Walzertraum
DESCRIPTION:BESETZUNG\nHelene\, Prinzessin: Laura Albert\nNiki\, Leutnant: Andrés Felipe Orozco\nFranzi Steingruber\, Dirigentin: Laura Scherwitzl\nJoachim XIII. Fürst von Flausenthurn: Sebastian Naglatzki\nGraf Lothar\, sein Vetter: Marcel Oleniecki\nFriederike von Insterburg: Julia Baier-Tarasova\nMontschi\, Leutnant: Robert Merwald\nWendolin\, Minister: Daniel Valero\nSigismund\, Lakai: Oliver Buck \n  \nAkkordeon: Vladislav Urbansky \n  \nOpern- und Extrachor der TOG\nDeutsche Tanzkompanie Neustrelitz\nNeubrandenburger Philharmonie \n  \nMusikalische Leitung: Daniel Klein / Ina Stoertzenbach\nInszenierung: Roman Hovenbitzer\nBühnenbild: Hermann Feuchter\nKostümbild: Luzie Nehls-Neuhaus\nChoreographie: Sabrina Stein\nChor: Joseph Feigl\nDramaturgie: Dr. Sebastian Richter
URL:https://lauraalbert.de/termine/ein-walzertraum-8/
LOCATION:Schlossgarten Neustrelitz\, Hertelstraße 8\, Neustrelitz\, Mecklenburg-Vorpommern\, 17235
CATEGORIES:Landestheater Neustrelitz,Operette,Philharmonie Neubrandenburg
END:VEVENT
BEGIN:VEVENT
DTSTART;TZID=Europe/Berlin:20240726T110000
DTEND;TZID=Europe/Berlin:20240726T120000
DTSTAMP:20260425T023536
CREATED:20240726T160417Z
LAST-MODIFIED:20240726T160948Z
UID:4748-1721991600-1721995200@lauraalbert.de
SUMMARY:Theaterfrühstück
DESCRIPTION:Konzertprogramm mit Justus Gericks (Klavier)
URL:https://lauraalbert.de/termine/theaterfruehstueck-neustrelitz/
LOCATION:Landestheater Neustrelitz\, Friedrich-Ludwig-Jahn-Straße 14\, Neustrelitz\, Mecklenburg-Vorpommern\, 17235
CATEGORIES:Konzert,Landestheater Neustrelitz
END:VEVENT
BEGIN:VEVENT
DTSTART;TZID=Europe/Berlin:20240726T200000
DTEND;TZID=Europe/Berlin:20240726T223000
DTSTAMP:20260425T023536
CREATED:20240328T135212Z
LAST-MODIFIED:20240328T135212Z
UID:4399-1722024000-1722033000@lauraalbert.de
SUMMARY:Ein Walzertraum
DESCRIPTION:BESETZUNG\nHelene\, Prinzessin: Laura Albert\nNiki\, Leutnant: Andrés Felipe Orozco\nFranzi Steingruber\, Dirigentin: Laura Scherwitzl\nJoachim XIII. Fürst von Flausenthurn: Sebastian Naglatzki\nGraf Lothar\, sein Vetter: Marcel Oleniecki\nFriederike von Insterburg: Julia Baier-Tarasova\nMontschi\, Leutnant: Robert Merwald\nWendolin\, Minister: Daniel Valero\nSigismund\, Lakai: Oliver Buck \n  \nAkkordeon: Vladislav Urbansky \n  \nOpern- und Extrachor der TOG\nDeutsche Tanzkompanie Neustrelitz\nNeubrandenburger Philharmonie \n  \nMusikalische Leitung: Daniel Klein / Ina Stoertzenbach\nInszenierung: Roman Hovenbitzer\nBühnenbild: Hermann Feuchter\nKostümbild: Luzie Nehls-Neuhaus\nChoreographie: Sabrina Stein\nChor: Joseph Feigl\nDramaturgie: Dr. Sebastian Richter
URL:https://lauraalbert.de/termine/ein-walzertraum-9/
LOCATION:Schlossgarten Neustrelitz\, Hertelstraße 8\, Neustrelitz\, Mecklenburg-Vorpommern\, 17235
CATEGORIES:Landestheater Neustrelitz,Operette,Philharmonie Neubrandenburg
END:VEVENT
BEGIN:VEVENT
DTSTART;TZID=Europe/Berlin:20240727T200000
DTEND;TZID=Europe/Berlin:20240727T223000
DTSTAMP:20260425T023536
CREATED:20240328T135004Z
LAST-MODIFIED:20240328T135004Z
UID:4395-1722110400-1722119400@lauraalbert.de
SUMMARY:Ein Walzertraum
DESCRIPTION:BESETZUNG\nHelene\, Prinzessin: Laura Albert\nNiki\, Leutnant: Andrés Felipe Orozco\nFranzi Steingruber\, Dirigentin: Laura Scherwitzl\nJoachim XIII. Fürst von Flausenthurn: Sebastian Naglatzki\nGraf Lothar\, sein Vetter: Marcel Oleniecki\nFriederike von Insterburg: Julia Baier-Tarasova\nMontschi\, Leutnant: Robert Merwald\nWendolin\, Minister: Daniel Valero\nSigismund\, Lakai: Oliver Buck \n  \nAkkordeon: Vladislav Urbansky \n  \nOpern- und Extrachor der TOG\nDeutsche Tanzkompanie Neustrelitz\nNeubrandenburger Philharmonie \n  \nMusikalische Leitung: Daniel Klein / Ina Stoertzenbach\nInszenierung: Roman Hovenbitzer\nBühnenbild: Hermann Feuchter\nKostümbild: Luzie Nehls-Neuhaus\nChoreographie: Sabrina Stein\nChor: Joseph Feigl\nDramaturgie: Dr. Sebastian Richter
URL:https://lauraalbert.de/termine/ein-walzertraum-7/
LOCATION:Schlossgarten Neustrelitz\, Hertelstraße 8\, Neustrelitz\, Mecklenburg-Vorpommern\, 17235
CATEGORIES:Landestheater Neustrelitz,Operette,Philharmonie Neubrandenburg
END:VEVENT
BEGIN:VEVENT
DTSTART;TZID=Europe/Berlin:20240728T160000
DTEND;TZID=Europe/Berlin:20240728T183000
DTSTAMP:20260425T023536
CREATED:20240328T134919Z
LAST-MODIFIED:20240328T134919Z
UID:4393-1722182400-1722191400@lauraalbert.de
SUMMARY:Ein Walzertraum
DESCRIPTION:BESETZUNG\nHelene\, Prinzessin: Laura Albert\nNiki\, Leutnant: Andrés Felipe Orozco\nFranzi Steingruber\, Dirigentin: Laura Scherwitzl\nJoachim XIII. Fürst von Flausenthurn: Sebastian Naglatzki\nGraf Lothar\, sein Vetter: Marcel Oleniecki\nFriederike von Insterburg: Julia Baier-Tarasova\nMontschi\, Leutnant: Robert Merwald\nWendolin\, Minister: Daniel Valero\nSigismund\, Lakai: Oliver Buck \n  \nAkkordeon: Vladislav Urbansky \n  \nOpern- und Extrachor der TOG\nDeutsche Tanzkompanie Neustrelitz\nNeubrandenburger Philharmonie \n  \nMusikalische Leitung: Daniel Klein / Ina Stoertzenbach\nInszenierung: Roman Hovenbitzer\nBühnenbild: Hermann Feuchter\nKostümbild: Luzie Nehls-Neuhaus\nChoreographie: Sabrina Stein\nChor: Joseph Feigl\nDramaturgie: Dr. Sebastian Richter
URL:https://lauraalbert.de/termine/ein-walzertraum-6/
LOCATION:Schlossgarten Neustrelitz\, Hertelstraße 8\, Neustrelitz\, Mecklenburg-Vorpommern\, 17235
CATEGORIES:Landestheater Neustrelitz,Operette,Philharmonie Neubrandenburg
END:VEVENT
END:VCALENDAR