BEGIN:VCALENDAR
VERSION:2.0
PRODID:-//Laura Albert - ECPv6.15.14//NONSGML v1.0//EN
CALSCALE:GREGORIAN
METHOD:PUBLISH
X-WR-CALNAME:Laura Albert
X-ORIGINAL-URL:https://lauraalbert.de
X-WR-CALDESC:Veranstaltungen für Laura Albert
REFRESH-INTERVAL;VALUE=DURATION:PT1H
X-Robots-Tag:noindex
X-PUBLISHED-TTL:PT1H
BEGIN:VTIMEZONE
TZID:Europe/Berlin
BEGIN:DAYLIGHT
TZOFFSETFROM:+0100
TZOFFSETTO:+0200
TZNAME:CEST
DTSTART:20230326T010000
END:DAYLIGHT
BEGIN:STANDARD
TZOFFSETFROM:+0200
TZOFFSETTO:+0100
TZNAME:CET
DTSTART:20231029T010000
END:STANDARD
BEGIN:DAYLIGHT
TZOFFSETFROM:+0100
TZOFFSETTO:+0200
TZNAME:CEST
DTSTART:20240331T010000
END:DAYLIGHT
BEGIN:STANDARD
TZOFFSETFROM:+0200
TZOFFSETTO:+0100
TZNAME:CET
DTSTART:20241027T010000
END:STANDARD
BEGIN:DAYLIGHT
TZOFFSETFROM:+0100
TZOFFSETTO:+0200
TZNAME:CEST
DTSTART:20250330T010000
END:DAYLIGHT
BEGIN:STANDARD
TZOFFSETFROM:+0200
TZOFFSETTO:+0100
TZNAME:CET
DTSTART:20251026T010000
END:STANDARD
END:VTIMEZONE
BEGIN:VEVENT
DTSTART;TZID=Europe/Berlin:20241109T190000
DTEND;TZID=Europe/Berlin:20241109T220000
DTSTAMP:20260424T202940
CREATED:20240726T160322Z
LAST-MODIFIED:20241014T073150Z
UID:4746-1731178800-1731189600@lauraalbert.de
SUMMARY:A Child of Our Time
DESCRIPTION:Michael Tippet: A Child of Our Time \nChor: Schillerchor \nOrchester: Berliner Oratoriengruppe \n  \n„Die Dunkelheit verkündet die Herrlichkeit des Lichts“\, so überschreibt Michael Tippett sein Oratorium. Entstanden unter dem Eindruck der Novemberpogrome stellt es die fundamentale Frage der Menschlichkeit angesichts von Terror und Vertreibung. \nDie Europäische Union\, das größte Friedensprojekt der Geschichte\, wird von einer Renationalisierungsbewegung ihrer Mitgliedsstaaten überrollt. Hätten wir diese Entwicklung nicht am eigenen Leibe miterlebt\, könnte man sie für eine Schauergeschichte halten. Unter ähnlichen\, wenn auch ungleich schlimmeren Vorzeichen\, komponierte Michael Tippett 1939-41 sein Oratorium „A Child of Our Time“. Darin verarbeitete er die Gewalt und Zerstörung der Reichspogromnacht vom 9. November 1938 in Anlehnung an Ödön von Horváths Roman „Ein Kind unserer Zeit“.
URL:https://lauraalbert.de/termine/a-child-of-our-time-berlin/
LOCATION:Theater im Delphi\, Gustav-Adolf-Straße 2\, Berlin\, 13086
CATEGORIES:Berlin,Konzert,Oratorium,Schillerchor
END:VEVENT
BEGIN:VEVENT
DTSTART;TZID=Europe/Berlin:20241115T193000
DTEND;TZID=Europe/Berlin:20241115T223000
DTSTAMP:20260424T202940
CREATED:20241029T164254Z
LAST-MODIFIED:20241029T164315Z
UID:4963-1731699000-1731709800@lauraalbert.de
SUMMARY:Aufstieg & Fall der Stadt Mahagonny
DESCRIPTION:Was könnte spannender sein\, als in der Oper den großen gesellschaftlichen Fragen auf den Grund zu gehen? \nMacht Geld glücklich? Macht Vergnügen glücklich? Macht Freiheit glücklich? Als die von Gaunern gegründete Stadt Mahagonny von einem Hurrikan verschont wird\, werden diese Fragen zu den Geboten der Bevölkerung. Kurt Weill und Bertolt Brecht zeichnen ein schonungsloses Bild des ungezügelten Kapitalismus. Hier regiert nur noch das Geld. Doch was bedeutet es für eine Gesellschaft\, frei von Moral und den Grenzen der Natur zu leben? Mit fesselnder Musik – beeinflusst von Jazz\, Kabarett und Musical – geht die Oper diesen Fragen nach. Antworten müssen wir selbst suchen. \n  \n\nBESETZUNG\nLeokadja Begbick → Julia Baier-Tarasova\nFatty\, der „Prokurist“ → Gevorg Kojoyan\nDreieinigkeitsmoses → Sebastian Naglatzki\nJenny Hill → Laura Albert  (Die Aufführungen am 02.11. und 25.12. werden von Laura Scherwitzl gesungen)\n\nJim Mahoney → Bernd Könnes\nJack O’Brien / Jakob Schmidt → Andrés Felipe Orozco\nBill\, genannt „Sparbüchsenbill“ → Robert Merwald\nJoe\, genannt „Alaskawolfjoe“ → Ryszard Kalus\nTobby Higgins → Ramin Varzandeh\nSprecherin → Sina GüntherOpernchor der TOG\nNeubrandenburger Philharmonie  \nMusikalische Leitung → Kenichiro Kojima\nInszenierung → Sven Müller\nBühnen- und Kostümbild → Rikke Juellund\nVideodesign: Bynke Maiboll\nChoreographie: Kirsten Hocke\nChor: Josef Feigl\nDramaturgie → Konstanze Kaas
URL:https://lauraalbert.de/termine/aufstieg-fall-der-stadt-mahagonny/
CATEGORIES:Landestheater Neustrelitz,Oper,Philharmonie Neubrandenburg
END:VEVENT
BEGIN:VEVENT
DTSTART;TZID=Europe/Berlin:20241123T193000
DTEND;TZID=Europe/Berlin:20241123T220000
DTSTAMP:20260424T202940
CREATED:20241014T072338Z
LAST-MODIFIED:20241127T143535Z
UID:4945-1732390200-1732399200@lauraalbert.de
SUMMARY:Rigoletto PREMIERE
DESCRIPTION:Emotionen aus dem wahren Leben: Dieses musikalische Feuerwerk konnte nur Giuseppe Verdi komponieren! \nMantua im 16. Jahrhundert. Es ist Rigoletto\, der Hofnarr\, der zu Grunde geht: an der Gesellschaft\, an seinem eigenen Herzog\, an seiner höfischen Maske\, an seinen Racheplänen. Und er verliert seine Vaterrolle\, die ihm Zuflucht und Leben war: Denn Gilda will nicht mehr nur Tochter sein\, auch sie will leben. Große italienische Oper! \n„Gilda ist eine junge Frau\, die leidenschaftlich liebt. Sie ist Jungfrau\, aber machen Sie sie nicht zu niedlich. Denken sie daran\, was später geschieht. Sie opfert sich aus Liebe.“\nMaria Callas \n  \nBESETZUNG\nDer Herzog von Mantua → Konstantin Lee / Weilian Wang\nRigoletto\, sein Hofnarr → Anton Keremidtchiev / Jorge Lagunes\nGilda\, dessen Tochter → Yeonjoo Katharina Jang\nGraf von Monterone → Sebastian Naglatzki\nGraf von Ceprano → Changmin Lee\nGrafin Ceprano\, seine Gemahlin → Laura Albert\nMarullo\, Kavalier → Robert Merwald\nBorsa\, Höfling → Andrés Felipe Orozco / Krzysztof Napierala\nSparafucile\, ein Bravo → Ryszard Kalus\nMaddalena\, seine Schwester → Julia Baier-Tarasova / Sina Günther\nGiovanna\, Gildas Gesellschafterin → Barbara Legiehn\nEin Page der Herzogin → Sina Günther / Julia Baier-Tarasova  \n  \nHerren des Opernchors der TOG\nNeubrandenburger Philharmonie \n  \nMusikalische Leitung → GMD Daniel Geiss\nInszenierung → Seollyeon Konwitschny-Lee\nBühnen- und Kostümbild → Karin Waltenberger\nDramaturgie → N.N.\, Bettina Bartz
URL:https://lauraalbert.de/termine/rigoletto-premiere/
LOCATION:Landestheater Neustrelitz\, Friedrich-Ludwig-Jahn-Straße 14\, Neustrelitz\, Mecklenburg-Vorpommern\, 17235
CATEGORIES:Landestheater Neustrelitz,Oper,Philharmonie Neubrandenburg
END:VEVENT
BEGIN:VEVENT
DTSTART;TZID=Europe/Berlin:20241127T080000
DTEND;TZID=Europe/Berlin:20241127T170000
DTSTAMP:20260424T202940
CREATED:20241127T163300Z
LAST-MODIFIED:20241127T163300Z
UID:4996-1732694400-1732726800@lauraalbert.de
SUMMARY:Rigoletto
DESCRIPTION:Emotionen aus dem wahren Leben: Dieses musikalische Feuerwerk konnte nur Giuseppe Verdi komponieren! \nMantua im 16. Jahrhundert. Es ist Rigoletto\, der Hofnarr\, der zu Grunde geht: an der Gesellschaft\, an seinem eigenen Herzog\, an seiner höfischen Maske\, an seinen Racheplänen. Und er verliert seine Vaterrolle\, die ihm Zuflucht und Leben war: Denn Gilda will nicht mehr nur Tochter sein\, auch sie will leben. Große italienische Oper! \n„Gilda ist eine junge Frau\, die leidenschaftlich liebt. Sie ist Jungfrau\, aber machen Sie sie nicht zu niedlich. Denken sie daran\, was später geschieht. Sie opfert sich aus Liebe.“\nMaria Callas \n  \nBESETZUNG\nDer Herzog von Mantua → Konstantin Lee / Weilian Wang\nRigoletto\, sein Hofnarr → Anton Keremidtchiev / Jorge Lagunes\nGilda\, dessen Tochter → Yeonjoo Katharina Jang\nGraf von Monterone → Sebastian Naglatzki\nGraf von Ceprano → Changmin Lee\nGrafin Ceprano\, seine Gemahlin → Laura Albert\nMarullo\, Kavalier → Robert Merwald\nBorsa\, Höfling → Andrés Felipe Orozco / Krzysztof Napierala\nSparafucile\, ein Bravo → Ryszard Kalus\nMaddalena\, seine Schwester → Julia Baier-Tarasova / Sina Günther\nGiovanna\, Gildas Gesellschafterin → Barbara Legiehn\nEin Page der Herzogin → Sina Günther / Julia Baier-Tarasova  \n  \nHerren des Opernchors der TOG\nNeubrandenburger Philharmonie \n  \nMusikalische Leitung → GMD Daniel Geiss\nInszenierung → Seollyeon Konwitschny-Lee\nBühnen- und Kostümbild → Karin Waltenberger\nDramaturgie → Bettina Bartz
URL:https://lauraalbert.de/termine/rigoletto-5/
CATEGORIES:Landestheater Neustrelitz,Oper,Philharmonie Neubrandenburg
END:VEVENT
BEGIN:VEVENT
DTSTART;TZID=Europe/Berlin:20241129T193000
DTEND;TZID=Europe/Berlin:20241129T220000
DTSTAMP:20260424T202940
CREATED:20241014T071740Z
LAST-MODIFIED:20241014T071740Z
UID:4939-1732908600-1732917600@lauraalbert.de
SUMMARY:The Famous Door on Swing Street
DESCRIPTION:BESETZUNG: \nAnna\, eine DJane → Laura Scherwitzl \nMike\, ein Banker → Andrés Felipe Orozco \nDoris\, Besitzerin eines Plattenladens → Bettina Meske \nPete\, Stepptänzer → Jannik Harneit \nTom\, ein Banker → Sebastian Naglatzki \nSwing Sisters → So Yeon Yang\, Laura Albert\, Julia Baier-Tarasova \n  \nOpernchor der TOG\nDeutsche Tanzkompanie\nNeubrandenburger Philharmonie \n  \nMusikalische Leitung → Thilo Wolf \nInszenierung und Choreographie → Gaines Hall \nBühnen- und Kostümbild → Dirk Immich
URL:https://lauraalbert.de/termine/the-famous-door-on-swing-street-8/
LOCATION:Landestheater Neustrelitz\, Friedrich-Ludwig-Jahn-Straße 14\, Neustrelitz\, Mecklenburg-Vorpommern\, 17235
CATEGORIES:Landestheater Neustrelitz,Musical,Philharmonie Neubrandenburg,Wiederaufnahmen
END:VEVENT
BEGIN:VEVENT
DTSTART;TZID=Europe/Berlin:20241130T193000
DTEND;TZID=Europe/Berlin:20241130T230000
DTSTAMP:20260424T202940
CREATED:20241014T072533Z
LAST-MODIFIED:20241014T072533Z
UID:4947-1732995000-1733007600@lauraalbert.de
SUMMARY:Rigoletto
DESCRIPTION:BESETZUNG\nDer Herzog von Mantua → Gustavo Quaresma\nRigoletto\, sein Hofnarr → Frank Dolphin Wong\nGilda\, dessen Tochter → Katharina Jang\nGraf von Monterone → Sebastian Naglatzki\nGraf von Ceprano → Changmin Lee\nGrafin Ceprano\, seine Gemahlin → Laura Albert\nMarullo\, Kavalier → Robert Merwald\nBorsa\, Höfling → Andrés Felipe Orozco\nSparafucile\, ein Bravo → Ryszard Kalus\nMaddalena\, seine Schwester → Julia Baier-Tarasova / Sina Günther\nGiovanna\, Gildas Gesellschafterin → Barbara Legiehn\nEin Page der Herzogin → Sina Günther / Julia Baier-Tarasova \n  \nHerren des Opernchors der TOG\nNeubrandenburger Philharmonie \n 
URL:https://lauraalbert.de/termine/rigoletto/
LOCATION:Landestheater Neustrelitz\, Friedrich-Ludwig-Jahn-Straße 14\, Neustrelitz\, Mecklenburg-Vorpommern\, 17235
CATEGORIES:Landestheater Neustrelitz,Oper,Philharmonie Neubrandenburg
END:VEVENT
END:VCALENDAR