BEGIN:VCALENDAR
VERSION:2.0
PRODID:-//Laura Albert - ECPv6.15.14//NONSGML v1.0//EN
CALSCALE:GREGORIAN
METHOD:PUBLISH
X-WR-CALNAME:Laura Albert
X-ORIGINAL-URL:https://lauraalbert.de
X-WR-CALDESC:Veranstaltungen für Laura Albert
REFRESH-INTERVAL;VALUE=DURATION:PT1H
X-Robots-Tag:noindex
X-PUBLISHED-TTL:PT1H
BEGIN:VTIMEZONE
TZID:Europe/Berlin
BEGIN:DAYLIGHT
TZOFFSETFROM:+0100
TZOFFSETTO:+0200
TZNAME:CEST
DTSTART:20240331T010000
END:DAYLIGHT
BEGIN:STANDARD
TZOFFSETFROM:+0200
TZOFFSETTO:+0100
TZNAME:CET
DTSTART:20241027T010000
END:STANDARD
BEGIN:DAYLIGHT
TZOFFSETFROM:+0100
TZOFFSETTO:+0200
TZNAME:CEST
DTSTART:20250330T010000
END:DAYLIGHT
BEGIN:STANDARD
TZOFFSETFROM:+0200
TZOFFSETTO:+0100
TZNAME:CET
DTSTART:20251026T010000
END:STANDARD
BEGIN:DAYLIGHT
TZOFFSETFROM:+0100
TZOFFSETTO:+0200
TZNAME:CEST
DTSTART:20260329T010000
END:DAYLIGHT
BEGIN:STANDARD
TZOFFSETFROM:+0200
TZOFFSETTO:+0100
TZNAME:CET
DTSTART:20261025T010000
END:STANDARD
END:VTIMEZONE
BEGIN:VEVENT
DTSTART;TZID=Europe/Berlin:20250201T193000
DTEND;TZID=Europe/Berlin:20250201T220000
DTSTAMP:20260424T132446
CREATED:20240616T193247Z
LAST-MODIFIED:20241127T143623Z
UID:4684-1738438200-1738447200@lauraalbert.de
SUMMARY:Chicago PREMIERE
DESCRIPTION:Das Chicago der 1920er war eine Metropole der Industrie\, der Migration\, des Jazz‘ und der Kriminalität. Zwei ambitionierte Frauen schmieden im Gefängnis Pläne für ihre Karrieren\, die Medien mischen ordentlich mit. Doch alles beginnt mit einem Mord. Der Stoff für eines der erfolgreichsten US amerikanischen Musicals beruht auf einem Buch der Journalistin Maurine Dallas Watkins: Sie verarbeitet darin zwei Kriminalfälle\, über die sie tatsächlich berichtet hatte. Große Show und pulsierende Musik – direkt aus dem Leben gegriffen! \n\nBESETZUNG\nConferencier → Markus Kopp\nVelma Kelly → Laura Albert\nFred Casely → Krysztof Napierala\nRoxie Hart → Laura Scherwitzl\nAmos Hart → Sebastian Naglatzki\nSergeant Fogarty → Andreas Hartig\nLiz → Sylke Urbanek\nAnnie → Gabrielle Penney\nJune → Grit Kolpatzik\nHunyak → Clarissa Gehring\nMona → Fernanda de Araujo\nOberin Morton→ Julia Baier-Tarasova\nBilly Flynn → Andrés Felipe Orozco\nEin Schneider → Songwoo Park\nMary Sunshine → Barbara Legiehn\nKitty → Hyun-Kyung Kang\nHarry\, ihr Mann → DTK\nEin Arzt →Changmin Lee\nAaron\, Anwalt → Ramin Varzandeh\nGerichtsdiener → Hyoung-Jun Lim\nHarrison\, Staatsanwalt → Marin Slini\nRichterin → Sylke Urbanek\nJustizia → Rebecca Backus \n  \nOpernchor der TOG\nDeutsche Tanzkompanie\nNeubrandenburger Philharmonie  \n  \nMusikalische Leitung → David Levi\nInszenierung und Choreographie → Amy Share-Kissiov\nBühnenbild → Olga von Wahl\nKostümbild → Alexandra Bentele\nChor → Joseph Feigl\nDramaturgie → N.N.
URL:https://lauraalbert.de/termine/chicago-premiere/
LOCATION:Landestheater Neustrelitz\, Friedrich-Ludwig-Jahn-Straße 14\, Neustrelitz\, Mecklenburg-Vorpommern\, 17235
CATEGORIES:Landestheater Neustrelitz,Musical,Philharmonie Neubrandenburg,Premieren
END:VEVENT
BEGIN:VEVENT
DTSTART;TZID=Europe/Berlin:20250221T193000
DTEND;TZID=Europe/Berlin:20250221T223000
DTSTAMP:20260424T132446
CREATED:20241127T143818Z
LAST-MODIFIED:20241127T154943Z
UID:4985-1740166200-1740177000@lauraalbert.de
SUMMARY:Chicago
DESCRIPTION:Das Chicago der 1920er war eine Metropole der Industrie\, der Migration\, des Jazz‘ und der Kriminalität. Zwei ambitionierte Frauen schmieden im Gefängnis Pläne für ihre Karrieren\, die Medien mischen ordentlich mit. Doch alles beginnt mit einem Mord. Der Stoff für eines der erfolgreichsten US amerikanischen Musicals beruht auf einem Buch der Journalistin Maurine Dallas Watkins: Sie verarbeitet darin zwei Kriminalfälle\, über die sie tatsächlich berichtet hatte. Große Show und pulsierende Musik – direkt aus dem Leben gegriffen! \n\nBESETZUNG\nConferencier → Markus Kopp\nVelma Kelly → Laura Albert\nFred Casely → Krysztof Napierala\nRoxie Hart → Laura Scherwitzl\nAmos Hart → Sebastian Naglatzki\nSergeant Fogarty → Andreas Hartig\nLiz → Sylke Urbanek\nAnnie → Gabrielle Penney\nJune → Grit Kolpatzik\nHunyak → Clarissa Gehring\nMona → Fernanda de Araujo\nOberin Morton→ Julia Baier-Tarasova\nBilly Flynn → Andrés Felipe Orozco\nEin Schneider → Songwoo Park\nMary Sunshine → Barbara Legiehn\nKitty → Hyun-Kyung Kang\nHarry\, ihr Mann → DTK\nEin Arzt →Changmin Lee\nAaron\, Anwalt → Ramin Varzandeh\nGerichtsdiener → Hyoung-Jun Lim\nHarrison\, Staatsanwalt → Marin Slini\nRichterin → Sylke Urbanek\nJustizia → Rebecca BackusOpernchor der TOG\nDeutsche Tanzkompanie\nNeubrandenburger Philharmonie Musikalische Leitung → David Levi\nInszenierung und Choreographie → Amy Share-Kissiov\nBühnenbild → Olga von Wahl\nKostümbild → Alexandra Bentele\nChor → Joseph Feigl\nDramaturgie → N.N.
URL:https://lauraalbert.de/termine/chicago/
LOCATION:Landestheater Neustrelitz\, Friedrich-Ludwig-Jahn-Straße 14\, Neustrelitz\, Mecklenburg-Vorpommern\, 17235
CATEGORIES:Landestheater Neustrelitz,Musical,Philharmonie Neubrandenburg
END:VEVENT
BEGIN:VEVENT
DTSTART;TZID=Europe/Berlin:20250222T193000
DTEND;TZID=Europe/Berlin:20250222T223000
DTSTAMP:20260424T132446
CREATED:20241127T162937Z
LAST-MODIFIED:20241127T163007Z
UID:4994-1740252600-1740263400@lauraalbert.de
SUMMARY:Rigoletto
DESCRIPTION:Emotionen aus dem wahren Leben: Dieses musikalische Feuerwerk konnte nur Giuseppe Verdi komponieren! \nMantua im 16. Jahrhundert. Es ist Rigoletto\, der Hofnarr\, der zu Grunde geht: an der Gesellschaft\, an seinem eigenen Herzog\, an seiner höfischen Maske\, an seinen Racheplänen. Und er verliert seine Vaterrolle\, die ihm Zuflucht und Leben war: Denn Gilda will nicht mehr nur Tochter sein\, auch sie will leben. Große italienische Oper! \n„Gilda ist eine junge Frau\, die leidenschaftlich liebt. Sie ist Jungfrau\, aber machen Sie sie nicht zu niedlich. Denken sie daran\, was später geschieht. Sie opfert sich aus Liebe.“\nMaria Callas \n  \nBESETZUNG\nDer Herzog von Mantua → Konstantin Lee / Weilian Wang\nRigoletto\, sein Hofnarr → Anton Keremidtchiev / Jorge Lagunes\nGilda\, dessen Tochter → Yeonjoo Katharina Jang\nGraf von Monterone → Sebastian Naglatzki\nGraf von Ceprano → Changmin Lee\nGrafin Ceprano\, seine Gemahlin → Laura Albert\nMarullo\, Kavalier → Robert Merwald\nBorsa\, Höfling → Andrés Felipe Orozco / Krzysztof Napierala\nSparafucile\, ein Bravo → Ryszard Kalus\nMaddalena\, seine Schwester → Julia Baier-Tarasova / Sina Günther\nGiovanna\, Gildas Gesellschafterin → Barbara Legiehn\nEin Page der Herzogin → Sina Günther / Julia Baier-Tarasova  \n  \nHerren des Opernchors der TOG\nNeubrandenburger Philharmonie \n  \nMusikalische Leitung → GMD Daniel Geiss\nInszenierung → Seollyeon Konwitschny-Lee\nBühnen- und Kostümbild → Karin Waltenberger\nDramaturgie → Bettina Bartz
URL:https://lauraalbert.de/termine/rigoletto-4/
LOCATION:Landestheater Neustrelitz\, Friedrich-Ludwig-Jahn-Straße 14\, Neustrelitz\, Mecklenburg-Vorpommern\, 17235
CATEGORIES:Landestheater Neustrelitz,Oper,Philharmonie Neubrandenburg
END:VEVENT
END:VCALENDAR