BEGIN:VCALENDAR
VERSION:2.0
PRODID:-//Laura Albert - ECPv6.15.14//NONSGML v1.0//EN
CALSCALE:GREGORIAN
METHOD:PUBLISH
X-ORIGINAL-URL:https://lauraalbert.de
X-WR-CALDESC:Veranstaltungen für Laura Albert
REFRESH-INTERVAL;VALUE=DURATION:PT1H
X-Robots-Tag:noindex
X-PUBLISHED-TTL:PT1H
BEGIN:VTIMEZONE
TZID:Europe/Berlin
BEGIN:DAYLIGHT
TZOFFSETFROM:+0100
TZOFFSETTO:+0200
TZNAME:CEST
DTSTART:20240331T010000
END:DAYLIGHT
BEGIN:STANDARD
TZOFFSETFROM:+0200
TZOFFSETTO:+0100
TZNAME:CET
DTSTART:20241027T010000
END:STANDARD
BEGIN:DAYLIGHT
TZOFFSETFROM:+0100
TZOFFSETTO:+0200
TZNAME:CEST
DTSTART:20250330T010000
END:DAYLIGHT
BEGIN:STANDARD
TZOFFSETFROM:+0200
TZOFFSETTO:+0100
TZNAME:CET
DTSTART:20251026T010000
END:STANDARD
BEGIN:DAYLIGHT
TZOFFSETFROM:+0100
TZOFFSETTO:+0200
TZNAME:CEST
DTSTART:20260329T010000
END:DAYLIGHT
BEGIN:STANDARD
TZOFFSETFROM:+0200
TZOFFSETTO:+0100
TZNAME:CET
DTSTART:20261025T010000
END:STANDARD
END:VTIMEZONE
BEGIN:VEVENT
DTSTART;TZID=Europe/Berlin:20250406T110000
DTEND;TZID=Europe/Berlin:20250406T123000
DTSTAMP:20260424T102506
CREATED:20250115T203256Z
LAST-MODIFIED:20260103T113745Z
UID:5052-1743937200-1743942600@lauraalbert.de
SUMMARY:Le Nozze di Figaro MATINÉE
DESCRIPTION:BESETZUNG\nGraf Almaviva → Robert Merwald\nGräfin Almaviva → Laura Albert\nSusanna\, deren Kammermädchen → Laura Scherwitzl\nFigaro\, Kammerdiener des Grafen → Sebastian Naglatzki\nCherubin\, Page des Grafen  → Sina Günther / Julia Baier-Tarasova\nMarcellina → Julia Baier-Tarasova / Sina Günther\nBasilio\, Musikmeister → Andrés Felipe Orozco\nDon Curzio\, Richter → N.N.\nBartolo\, Arzt aus Sevilla → Ryszard Kalus\nAntonio\, Gärtner des Grafen → Changmin Lee\nBarbarina\, seine Tochter → Clara-Marie Schade \n  \nOpernchor der TOG\nNeubrandenburger Philharmonie \n  \nMusikalische Leitung → GMD Daniel Geiss\nInszenierung → Sven Müller\nBühnen- und Kostümbild → Lena Brexendorff\nEinstudierung Chor → Joseph Feigl
URL:https://lauraalbert.de/termine/le-nozze-di-figaro-matinee/
LOCATION:Landestheater Neustrelitz\, Friedrich-Ludwig-Jahn-Straße 14\, Neustrelitz\, Mecklenburg-Vorpommern\, 17235
CATEGORIES:Landestheater Neustrelitz,Oper,Philharmonie Neubrandenburg
END:VEVENT
BEGIN:VEVENT
DTSTART;TZID=Europe/Berlin:20250412T193000
DTEND;TZID=Europe/Berlin:20250412T223000
DTSTAMP:20260424T102506
CREATED:20250115T202717Z
LAST-MODIFIED:20250115T202759Z
UID:5044-1744486200-1744497000@lauraalbert.de
SUMMARY:Chicago
DESCRIPTION:BESETZUNG\nConferencier → Markus Kopp\nVelma Kelly → Laura Albert\nFred Casely → Krysztof Napierala\nRoxie Hart → Laura Scherwitzl\nAmos Hart → Sebastian Naglatzki\nSergeant Fogarty → Andreas Hartig\nLiz → Sylke Urbanek\nAnnie → Gabrielle Penney\nJune → Grit Kolpatzik\nHunyak → Clarissa Gehring\nMona → Fernanda de Araujo\nOberin Morton→ Julia Baier-Tarasova\nBilly Flynn → Andrés Felipe Orozco\nEin Schneider → Songwoo Park\nMary Sunshine → Barbara Legiehn\nKitty → Hyun-Kyung Kang\nHarry\, ihr Mann → DTK\nEin Arzt →Changmin Lee\nAaron\, Anwalt → Ramin Varzandeh\nGerichtsdiener → Hyoung-Jun Lim\nHarrison\, Staatsanwalt → Marin Slini\nRichterin → Sylke Urbanek\nJustizia → Rebecca BackusOpernchor der TOG\nDeutsche Tanzkompanie\nNeubrandenburger Philharmonie Musikalische Leitung → David Levi\nInszenierung und Choreographie → Amy Share-Kissiov\nBühnenbild → Olga von Wahl\nKostümbild → Alexandra Bentele\nChor → Joseph Feigl
URL:https://lauraalbert.de/termine/5044/
LOCATION:Landestheater Neustrelitz\, Friedrich-Ludwig-Jahn-Straße 14\, Neustrelitz\, Mecklenburg-Vorpommern\, 17235
CATEGORIES:Landestheater Neustrelitz,Musical,Philharmonie Neubrandenburg
END:VEVENT
BEGIN:VEVENT
DTSTART;TZID=Europe/Berlin:20250419T193000
DTEND;TZID=Europe/Berlin:20250419T220000
DTSTAMP:20260424T102506
CREATED:20240616T193710Z
LAST-MODIFIED:20240616T194011Z
UID:4688-1745091000-1745100000@lauraalbert.de
SUMMARY:Le Nozze di Figaro PREMIERE
DESCRIPTION:Oper von W. A. Mozart
URL:https://lauraalbert.de/termine/le-nozze-di-figaro-premiere/
LOCATION:Landestheater Neustrelitz\, Friedrich-Ludwig-Jahn-Straße 14\, Neustrelitz\, Mecklenburg-Vorpommern\, 17235
CATEGORIES:Landestheater Neustrelitz,Oper,Philharmonie Neubrandenburg,Premieren
END:VEVENT
BEGIN:VEVENT
DTSTART;TZID=Europe/Berlin:20250425T193000
DTEND;TZID=Europe/Berlin:20250425T223000
DTSTAMP:20260424T102506
CREATED:20250115T202900Z
LAST-MODIFIED:20250115T202900Z
UID:5048-1745609400-1745620200@lauraalbert.de
SUMMARY:Chicago
DESCRIPTION:BESETZUNG\nConferencier → Markus Kopp\nVelma Kelly → Laura Albert\nFred Casely → Krysztof Napierala\nRoxie Hart → Laura Scherwitzl\nAmos Hart → Sebastian Naglatzki\nSergeant Fogarty → Andreas Hartig\nLiz → Sylke Urbanek\nAnnie → Gabrielle Penney\nJune → Grit Kolpatzik\nHunyak → Clarissa Gehring\nMona → Fernanda de Araujo\nOberin Morton→ Julia Baier-Tarasova\nBilly Flynn → Andrés Felipe Orozco\nEin Schneider → Songwoo Park\nMary Sunshine → Barbara Legiehn\nKitty → Hyun-Kyung Kang\nHarry\, ihr Mann → DTK\nEin Arzt →Changmin Lee\nAaron\, Anwalt → Ramin Varzandeh\nGerichtsdiener → Hyoung-Jun Lim\nHarrison\, Staatsanwalt → Marin Slini\nRichterin → Sylke Urbanek\nJustizia → Rebecca BackusOpernchor der TOG\nDeutsche Tanzkompanie\nNeubrandenburger Philharmonie Musikalische Leitung → David Levi\nInszenierung und Choreographie → Amy Share-Kissiov\nBühnenbild → Olga von Wahl\nKostümbild → Alexandra Bentele\nChor → Joseph Feigl
URL:https://lauraalbert.de/termine/chicago-4/
LOCATION:Landestheater Neustrelitz\, Friedrich-Ludwig-Jahn-Straße 14\, Neustrelitz\, Mecklenburg-Vorpommern\, 17235
CATEGORIES:Landestheater Neustrelitz,Musical,Philharmonie Neubrandenburg
END:VEVENT
BEGIN:VEVENT
DTSTART;TZID=Europe/Berlin:20250427T080000
DTEND;TZID=Europe/Berlin:20250427T170000
DTSTAMP:20260424T102506
CREATED:20250115T203419Z
LAST-MODIFIED:20250115T203419Z
UID:5054-1745740800-1745773200@lauraalbert.de
SUMMARY:Le Nozze di Figaro
DESCRIPTION:BESETZUNG\nGraf Almaviva → Robert Merwald\nGräfin Almaviva → Laura Albert\nSusanna\, deren Kammermädchen → Laura Scherwitzl\nFigaro\, Kammerdiener des Grafen → Sebastian Naglatzki\nCherubin\, Page des Grafen  → Sina Günther / Julia Baier-Tarasova\nMarcellina → Julia Baier-Tarasova / Sina Günther\nBasilio\, Musikmeister → Andrés Felipe Orozco\nDon Curzio\, Richter → N.N.\nBartolo\, Arzt aus Sevilla → Ryszard Kalus\nAntonio\, Gärtner des Grafen → Changmin Lee\nBarbarina\, seine Tochter → Clara-Marie Schade \n  \nOpernchor der TOG\nNeubrandenburger Philharmonie \n  \nMusikalische Leitung → GMD Daniel Geiss\nInszenierung → Sven Müller\nBühnen- und Kostümbild → Lena Brexendorff\nEinstudierung Chor → Joseph Feigl
URL:https://lauraalbert.de/termine/le-nozze-di-figaro-3/
LOCATION:Landestheater Neustrelitz\, Friedrich-Ludwig-Jahn-Straße 14\, Neustrelitz\, Mecklenburg-Vorpommern\, 17235
CATEGORIES:Landestheater Neustrelitz,Oper,Philharmonie Neubrandenburg
END:VEVENT
END:VCALENDAR