BEGIN:VCALENDAR
VERSION:2.0
PRODID:-//Laura Albert - ECPv6.15.14//NONSGML v1.0//EN
CALSCALE:GREGORIAN
METHOD:PUBLISH
X-WR-CALNAME:Laura Albert
X-ORIGINAL-URL:https://lauraalbert.de
X-WR-CALDESC:Veranstaltungen für Laura Albert
REFRESH-INTERVAL;VALUE=DURATION:PT1H
X-Robots-Tag:noindex
X-PUBLISHED-TTL:PT1H
BEGIN:VTIMEZONE
TZID:Europe/Berlin
BEGIN:DAYLIGHT
TZOFFSETFROM:+0100
TZOFFSETTO:+0200
TZNAME:CEST
DTSTART:20240331T010000
END:DAYLIGHT
BEGIN:STANDARD
TZOFFSETFROM:+0200
TZOFFSETTO:+0100
TZNAME:CET
DTSTART:20241027T010000
END:STANDARD
BEGIN:DAYLIGHT
TZOFFSETFROM:+0100
TZOFFSETTO:+0200
TZNAME:CEST
DTSTART:20250330T010000
END:DAYLIGHT
BEGIN:STANDARD
TZOFFSETFROM:+0200
TZOFFSETTO:+0100
TZNAME:CET
DTSTART:20251026T010000
END:STANDARD
BEGIN:DAYLIGHT
TZOFFSETFROM:+0100
TZOFFSETTO:+0200
TZNAME:CEST
DTSTART:20260329T010000
END:DAYLIGHT
BEGIN:STANDARD
TZOFFSETFROM:+0200
TZOFFSETTO:+0100
TZNAME:CET
DTSTART:20261025T010000
END:STANDARD
END:VTIMEZONE
BEGIN:VEVENT
DTSTART;TZID=Europe/Berlin:20250503T193000
DTEND;TZID=Europe/Berlin:20250503T220000
DTSTAMP:20260424T084539
CREATED:20250126T190401Z
LAST-MODIFIED:20250126T190401Z
UID:5105-1746300600-1746309600@lauraalbert.de
SUMMARY:Le Nozze di Figaro
DESCRIPTION:BESETZUNG\nGraf Almaviva → Robert Merwald\nGräfin Almaviva → Laura Albert\nSusanna\, deren Kammermädchen → Laura Scherwitzl\nFigaro\, Kammerdiener des Grafen → Sebastian Naglatzki\nCherubin\, Page des Grafen  → Sina Günther / Julia Baier-Tarasova\nMarcellina → Julia Baier-Tarasova / Sina Günther\nBasilio\, Musikmeister → Andrés Felipe Orozco\nDon Curzio\, Richter → N.N.\nBartolo\, Arzt aus Sevilla → Ryszard Kalus\nAntonio\, Gärtner des Grafen → Changmin Lee\nBarbarina\, seine Tochter → Clara-Marie Schade \n  \nOpernchor der TOG\nNeubrandenburger Philharmonie \n  \nMusikalische Leitung → GMD Daniel Geiss\nInszenierung → Sven Müller\nBühnen- und Kostümbild → Lena Brexendorff\nEinstudierung Chor → Joseph Feigl
URL:https://lauraalbert.de/termine/le-nozze-di-figaro-4/
LOCATION:Landestheater Neustrelitz\, Friedrich-Ludwig-Jahn-Straße 14\, Neustrelitz\, Mecklenburg-Vorpommern\, 17235
CATEGORIES:Landestheater Neustrelitz,Oper,Philharmonie Neubrandenburg
END:VEVENT
BEGIN:VEVENT
DTSTART;TZID=Europe/Berlin:20250516T193000
DTEND;TZID=Europe/Berlin:20250516T220000
DTSTAMP:20260424T084539
CREATED:20250126T190603Z
LAST-MODIFIED:20250126T190603Z
UID:5107-1747423800-1747432800@lauraalbert.de
SUMMARY:Le Nozze di Figaro
DESCRIPTION:BESETZUNG\nGraf Almaviva → Robert Merwald\nGräfin Almaviva → Laura Albert\nSusanna\, deren Kammermädchen → Laura Scherwitzl\nFigaro\, Kammerdiener des Grafen → Sebastian Naglatzki\nCherubin\, Page des Grafen  → Sina Günther / Julia Baier-Tarasova\nMarcellina → Julia Baier-Tarasova / Sina Günther\nBasilio\, Musikmeister → Andrés Felipe Orozco\nDon Curzio\, Richter → N.N.\nBartolo\, Arzt aus Sevilla → Ryszard Kalus\nAntonio\, Gärtner des Grafen → Changmin Lee\nBarbarina\, seine Tochter → Clara-Marie Schade \n  \nOpernchor der TOG\nNeubrandenburger Philharmonie \n  \nMusikalische Leitung → GMD Daniel Geiss\nInszenierung → Sven Müller\nBühnen- und Kostümbild → Lena Brexendorff\nEinstudierung Chor → Joseph Feigl
URL:https://lauraalbert.de/termine/le-nozze-di-figaro-5/
LOCATION:Landestheater Neustrelitz\, Friedrich-Ludwig-Jahn-Straße 14\, Neustrelitz\, Mecklenburg-Vorpommern\, 17235
CATEGORIES:Landestheater Neustrelitz,Oper,Philharmonie Neubrandenburg
END:VEVENT
BEGIN:VEVENT
DTSTART;TZID=Europe/Berlin:20250517T193000
DTEND;TZID=Europe/Berlin:20250517T223000
DTSTAMP:20260424T084539
CREATED:20250502T113752Z
LAST-MODIFIED:20250502T113826Z
UID:5152-1747510200-1747521000@lauraalbert.de
SUMMARY:Chicago
DESCRIPTION:BESETZUNG\nConferencier → Markus Kopp\nVelma Kelly → Laura Albert\nFred Casely → Krysztof Napierala\nRoxie Hart → Laura Scherwitzl\nAmos Hart → Sebastian Naglatzki\nSergeant Fogarty → Andreas Hartig\nLiz → Sylke Urbanek\nAnnie → Gabrielle Penney\nJune → Grit Kolpatzik\nHunyak → Clarissa Gehring\nMona → Fernanda de Araujo\nOberin Morton→ Anke Fiedler\nBilly Flynn → Andrés Felipe Orozco\nEin Schneider → Sungwoo Park\nMary Sunshine → Barbara Legiehn\nKitty → Hyun-Kyung Kang\nHarry\, ihr Mann → DTK\nEin Arzt → Changmin Lee\nAaron\, Anwalt → Ramin Varzandeh\nGerichtsdiener → Hyoung-Jun Lim\nHarrison\, Staatsanwalt → Marin Silni\nRichterin → Sylke Urbanek\nJustizia → Rebecca Backus \n  \nOpernchor der TOG\nDeutsche Tanzkompanie\nNeubrandenburger Philharmonie  \n  \nMusikalische Leitung → David Levi\nInszenierung und Choreographie → Amy Share-Kissiov\nBühnenbild → Olga von Wahl\nKostümbild → Alexandra Bentele\nChor → Joseph Feigl
URL:https://lauraalbert.de/termine/chicago-6/
LOCATION:Landestheater Neustrelitz\, Friedrich-Ludwig-Jahn-Straße 14\, Neustrelitz\, Mecklenburg-Vorpommern\, 17235
CATEGORIES:Landestheater Neustrelitz,Mecklenburg-Vorpommern,Musical
END:VEVENT
BEGIN:VEVENT
DTSTART;TZID=Europe/Berlin:20250518T110000
DTEND;TZID=Europe/Berlin:20250518T123000
DTSTAMP:20260424T084539
CREATED:20250115T203821Z
LAST-MODIFIED:20250115T203849Z
UID:5056-1747566000-1747571400@lauraalbert.de
SUMMARY:Die Feen MATINÉE
DESCRIPTION:Informationen folgen
URL:https://lauraalbert.de/termine/die-feen-matinee/
LOCATION:Landestheater Neustrelitz\, Friedrich-Ludwig-Jahn-Straße 14\, Neustrelitz\, Mecklenburg-Vorpommern\, 17235
CATEGORIES:Landestheater Neustrelitz,Oper
END:VEVENT
BEGIN:VEVENT
DTSTART;TZID=Europe/Berlin:20250531T193000
DTEND;TZID=Europe/Berlin:20250531T223000
DTSTAMP:20260424T084539
CREATED:20240616T193433Z
LAST-MODIFIED:20250502T121057Z
UID:4686-1748719800-1748730600@lauraalbert.de
SUMMARY:Die Feen PREMIERE
DESCRIPTION:BESETZUNG \nAda\, eine Fee → Laura Albert\nZemina\, eine Fee → Laura Scherwitzl\nFrazana\, eine Fee → Sina Günther\nArindal\, König von Tramond → David Danholt\nLora\, seine Schwester → So Yeon Yang\nMorald\, ihr Geliebter → Robert Merwald\nDrolla\, Loras Begleiterin → Elisabeth Schmeißer\nGernot\, im Dienste Arindals → Ryszard Kalus\nGunther\, am Hofe von Tramond → Bernd Könnes\nHarald\, Feldherr im Heere Arindals → Changmin Lee\nEin Bote → Andrés Felipe Orozco\nDie beiden Kinder Arindals und Adas → Mirko Müller-Georgiev\, Ignacy Napierala \n  \nOpernchor der TOG\nNeubrandenburger Philharmonie \n  \nMusikalische Leitung → Kenichiro Kojima\nInszenierung → Isabel Hindersin\nBühnen- und Kostümbild → Susana Mendoza\nEinstudierung Chor → Joseph Feigl\nDramaturgie → Heike Fuhlbrügge / Martin von Bargen
URL:https://lauraalbert.de/termine/die-feen-premiere/
LOCATION:Landestheater Neustrelitz\, Friedrich-Ludwig-Jahn-Straße 14\, Neustrelitz\, Mecklenburg-Vorpommern\, 17235
CATEGORIES:Landestheater Neustrelitz,Oper,Philharmonie Neubrandenburg,Premieren
END:VEVENT
END:VCALENDAR