BEGIN:VCALENDAR
VERSION:2.0
PRODID:-//Laura Albert - ECPv6.15.14//NONSGML v1.0//EN
CALSCALE:GREGORIAN
METHOD:PUBLISH
X-ORIGINAL-URL:https://lauraalbert.de
X-WR-CALDESC:Veranstaltungen für Laura Albert
REFRESH-INTERVAL;VALUE=DURATION:PT1H
X-Robots-Tag:noindex
X-PUBLISHED-TTL:PT1H
BEGIN:VTIMEZONE
TZID:Europe/Berlin
BEGIN:DAYLIGHT
TZOFFSETFROM:+0100
TZOFFSETTO:+0200
TZNAME:CEST
DTSTART:20240331T010000
END:DAYLIGHT
BEGIN:STANDARD
TZOFFSETFROM:+0200
TZOFFSETTO:+0100
TZNAME:CET
DTSTART:20241027T010000
END:STANDARD
BEGIN:DAYLIGHT
TZOFFSETFROM:+0100
TZOFFSETTO:+0200
TZNAME:CEST
DTSTART:20250330T010000
END:DAYLIGHT
BEGIN:STANDARD
TZOFFSETFROM:+0200
TZOFFSETTO:+0100
TZNAME:CET
DTSTART:20251026T010000
END:STANDARD
BEGIN:DAYLIGHT
TZOFFSETFROM:+0100
TZOFFSETTO:+0200
TZNAME:CEST
DTSTART:20260329T010000
END:DAYLIGHT
BEGIN:STANDARD
TZOFFSETFROM:+0200
TZOFFSETTO:+0100
TZNAME:CET
DTSTART:20261025T010000
END:STANDARD
END:VTIMEZONE
BEGIN:VEVENT
DTSTART;TZID=Europe/Berlin:20251202T110000
DTEND;TZID=Europe/Berlin:20251202T140000
DTSTAMP:20260423T224316
CREATED:20250627T153649Z
LAST-MODIFIED:20250627T153649Z
UID:5388-1764673200-1764684000@lauraalbert.de
SUMMARY:Hänsel & Gretel | Adventskonzert
DESCRIPTION:
URL:https://lauraalbert.de/termine/haensel-gretel-adventskonzert-3/
LOCATION:Philharmonie Berlin\, Herbert-von-Karajan-Straße 1\, Berlin\, 10785\, Germany
CATEGORIES:Berlin,Gastspiel,Konzert,Oper,Philharmonie Neubrandenburg
END:VEVENT
BEGIN:VEVENT
DTSTART;TZID=Europe/Berlin:20251214T160000
DTEND;TZID=Europe/Berlin:20251214T190000
DTSTAMP:20260423T224316
CREATED:20250627T152755Z
LAST-MODIFIED:20250627T152755Z
UID:5383-1765728000-1765738800@lauraalbert.de
SUMMARY:Hänsel & Gretel | Adventskonzert
DESCRIPTION:
URL:https://lauraalbert.de/termine/haensel-gretel-adventskonzert/
LOCATION:Landestheater Neustrelitz\, Friedrich-Ludwig-Jahn-Straße 14\, Neustrelitz\, Mecklenburg-Vorpommern\, 17235
CATEGORIES:Konzert,Landestheater Neustrelitz,Mecklenburg-Vorpommern,Oper,Philharmonie Neubrandenburg
END:VEVENT
BEGIN:VEVENT
DTSTART;TZID=Europe/Berlin:20251221T150000
DTEND;TZID=Europe/Berlin:20251221T180000
DTSTAMP:20260423T224316
CREATED:20250627T153026Z
LAST-MODIFIED:20250627T153026Z
UID:5385-1766329200-1766340000@lauraalbert.de
SUMMARY:Hänsel & Gretel | Adventskonzert
DESCRIPTION:
URL:https://lauraalbert.de/termine/haensel-gretel-adventskonzert-2/
LOCATION:Scheune Bollewick\, Dudel 1\, Bollewick\, Mecklenburg Vorpommern\, 17207\, Germany
CATEGORIES:Gastspiel,Mecklenburg-Vorpommern,Oper,Philharmonie Neubrandenburg
END:VEVENT
BEGIN:VEVENT
DTSTART;TZID=Europe/Berlin:20251226T113000
DTEND;TZID=Europe/Berlin:20251226T153000
DTSTAMP:20260423T224316
CREATED:20251225T093315Z
LAST-MODIFIED:20251225T093754Z
UID:5544-1766748600-1766763000@lauraalbert.de
SUMMARY:SCHUBERT: Messe in G-Dur
DESCRIPTION:
URL:https://lauraalbert.de/termine/schubert-messe-in-g-dur/
LOCATION:Pfarrgemeinde Herz Jesu Oberhausen\, Marktstraße\, Oberhausen\, Deutschland
CATEGORIES:Nordrhein-Westfalen,Oberhausen,Oratorium
END:VEVENT
BEGIN:VEVENT
DTSTART;TZID=Europe/Berlin:20251228T180000
DTEND;TZID=Europe/Berlin:20251228T210000
DTSTAMP:20260423T224316
CREATED:20250617T174117Z
LAST-MODIFIED:20250617T174117Z
UID:5322-1766944800-1766955600@lauraalbert.de
SUMMARY:BEETHOVEN 9. Symphonie
DESCRIPTION:Ludwig van Beethoven: Sinfonie Nr. 9 d-Moll op. 125 mit Schlusschor über Verse aus Schillers „Ode an die Freude“ \n\,… als aber endlich\, nach einer Aufforderung des Solo-Basses\, auch der volle Chor in majestätischer Pracht das Loblied der Freude anstimmt\, da öffnet das frohe Herz sich weit dem Wonnegefühle des seeligen Genusses\, und tausend Kehlen Jauchzen: ‚Heil! Hell! Heil! der gottlichen Tonkunst! Lob! Preis! und Dank deinem würdigsten hohen Priester!‘ (…) Kunst und Wahrheit feyern hier ihren glänzendsten iumph\, und mit Fug und Recht könnte man sagen: non plus ultra! – Wem möch s wohl gelingen\, diese unnennbare Stelle noch zu überbieter \nAus der Rezension zur Uraufführung der Neunten Sinfonie von Beethoven\, „Allgemeine musikalische Zeitung“\, 1824 \n28.12.25\, 18.00 Uhr \nLandestheater Neustrelitz \n31.12.25\, 17.00 Uhr \nKonzertkirche Neubrandenburg \nSolisten \nLaura Albert\, Sopran \nSina Günther\, Mezzosopran \nKonstantin Lee\, Tenor \nRyszard Kalus\, Bass \nChöre \nOpernchor der TOG\, Philharmonischer Chor Neubrandenburg (Einstudierung: \nJoseph Feigl)\, Mitglieder der Kantorei St. Johannis Neubrandenburg (Einstudierung: Tobias Brommann) \nDirigent \nGMD Daniel Geiss
URL:https://lauraalbert.de/termine/beethoven-9-symphonie-2/
LOCATION:Landestheater Neustrelitz\, Friedrich-Ludwig-Jahn-Straße 14\, Neustrelitz\, Mecklenburg-Vorpommern\, 17235
CATEGORIES:Konzert,Landestheater Neustrelitz,Mecklenburg-Vorpommern,Philharmonie Neubrandenburg
END:VEVENT
BEGIN:VEVENT
DTSTART;TZID=Europe/Berlin:20251231T170000
DTEND;TZID=Europe/Berlin:20251231T200000
DTSTAMP:20260423T224316
CREATED:20250617T173932Z
LAST-MODIFIED:20250617T174201Z
UID:5320-1767200400-1767211200@lauraalbert.de
SUMMARY:BEETHOVEN 9. Symphonie
DESCRIPTION:Ludwig van Beethoven: Sinfonie Nr. 9 d-Moll op. 125 mit Schlusschor über Verse aus Schillers „Ode an die Freude“ \n\,… als aber endlich\, nach einer Aufforderung des Solo-Basses\, auch der volle Chor in majestätischer Pracht das Loblied der Freude anstimmt\, da öffnet das frohe Herz sich weit dem Wonnegefühle des seeligen Genusses\, und tausend Kehlen Jauchzen: ‚Heil! Hell! Heil! der gottlichen Tonkunst! Lob! Preis! und Dank deinem würdigsten hohen Priester!‘ (…) Kunst und Wahrheit feyern hier ihren glänzendsten iumph\, und mit Fug und Recht könnte man sagen: non plus ultra! – Wem möch s wohl gelingen\, diese unnennbare Stelle noch zu überbieter \nAus der Rezension zur Uraufführung der Neunten Sinfonie von Beethoven\, „Allgemeine musikalische Zeitung“\, 1824 \n28.12.25\, 18.00 Uhr \nLandestheater Neustrelitz \n31.12.25\, 17.00 Uhr \nKonzertkirche Neubrandenburg \nSolisten \nLaura Albert\, Sopran \nSina Günther\, Mezzosopran \nKonstantin Lee\, Tenor \nRyszard Kalus\, Bass \nChöre \nOpernchor der TOG\, Philharmonischer Chor Neubrandenburg (Einstudierung: \nJoseph Feigl)\, Mitglieder der Kantorei St. Johannis Neubrandenburg (Einstudierung: Tobias Brommann) \nDirigent: GMD Daniel Geiss
URL:https://lauraalbert.de/termine/beethoven-9-symphonie/
LOCATION:Konzertkirche Neubrandenburg\, An d. Marienkirche\, Neubrandenburg\, Mecklenburg-Vorpommern\, 17033\, Deutschland
CATEGORIES:Konzert,Mecklenburg-Vorpommern,Philharmonie Neubrandenburg
END:VEVENT
END:VCALENDAR